BEGIN:VCALENDAR
VERSION:2.0
PRODID:-//Chemnitz Open Space - ECPv6.15.20//NONSGML v1.0//EN
CALSCALE:GREGORIAN
METHOD:PUBLISH
X-ORIGINAL-URL:https://chemnitz-open.space
X-WR-CALDESC:Veranstaltungen für Chemnitz Open Space
REFRESH-INTERVAL;VALUE=DURATION:PT1H
X-Robots-Tag:noindex
X-PUBLISHED-TTL:PT1H
BEGIN:VTIMEZONE
TZID:Europe/Berlin
BEGIN:DAYLIGHT
TZOFFSETFROM:+0100
TZOFFSETTO:+0200
TZNAME:CEST
DTSTART:20240331T010000
END:DAYLIGHT
BEGIN:STANDARD
TZOFFSETFROM:+0200
TZOFFSETTO:+0100
TZNAME:CET
DTSTART:20241027T010000
END:STANDARD
BEGIN:DAYLIGHT
TZOFFSETFROM:+0100
TZOFFSETTO:+0200
TZNAME:CEST
DTSTART:20250330T010000
END:DAYLIGHT
BEGIN:STANDARD
TZOFFSETFROM:+0200
TZOFFSETTO:+0100
TZNAME:CET
DTSTART:20251026T010000
END:STANDARD
BEGIN:DAYLIGHT
TZOFFSETFROM:+0100
TZOFFSETTO:+0200
TZNAME:CEST
DTSTART:20260329T010000
END:DAYLIGHT
BEGIN:STANDARD
TZOFFSETFROM:+0200
TZOFFSETTO:+0100
TZNAME:CET
DTSTART:20261025T010000
END:STANDARD
END:VTIMEZONE
BEGIN:VEVENT
DTSTART;TZID=Europe/Berlin:20251001T180000
DTEND;TZID=Europe/Berlin:20251001T200000
DTSTAMP:20260420T150905
CREATED:20250920T123324Z
LAST-MODIFIED:20250920T123324Z
UID:2761-1759341600-1759348800@chemnitz-open.space
SUMMARY:Plan C – Die Zeitreiseagentur Morgen Tour lädt die Chemnitzerinnen und Chemnitzer zur Schule der Zukunftsguides ein.
DESCRIPTION:Die Zeitreiseagentur Morgen Tour lädt die Chemnitzerinnen und Chemnitzer zur Schule der Zukunftsguides ein. In diesem spielerischen Workshop werft ihr einen Blick in mögliche (oder sogar unmögliche) Zukünfte von Chemnitz und schlüpft kurzzeitig in die Rolle einer zeitreisenden Reiseleitung. Seht\, hört und fühlt das entstehende Chemnitz der Zukunft – geformt von euren Hoffnungen\, Wünschen und Träumen – auf einem spielerischen Erkundungsspaziergang mit Asya Volodina\, Game Designerin und Praktikerin partizipativer Kunst. \n________________ \nTime travel agency Morgen Tour invites residents of Chemnitz to the School for the Guides to the Future. In this playful workshop you take a look into some possible (or even impossible) future of Chemnitz and shortly try out a role of a time travelling guide. See\, hear and feel Chemnitz of the future emerging\, shaped by your hopes\, wishes and dreams on a playful exploration walk with Asya Volodina — a game designer and participatory art practitioner. The workshop takes place inside the OpenSpace. Languages: English\, German. The event is a part of the „Unvereint Vereint“ project. \n 
URL:https://chemnitz-open.space/event/plan-c-die-zeitreiseagentur-morgen-tour-laedt-die-chemnitzerinnen-und-chemnitzer-zur-schule-der-zukunftsguides-ein-2/
LOCATION:Chemnitz Open Space\, Brückenstraße 10\, Chemnitz\, Sachsen\, 09111\, Deutschland
CATEGORIES:Mitmachen,Workshop
END:VEVENT
BEGIN:VEVENT
DTSTART;TZID=Europe/Berlin:20251005T150000
DTEND;TZID=Europe/Berlin:20251005T180000
DTSTAMP:20260420T150905
CREATED:20241005T145650Z
LAST-MODIFIED:20251024T152819Z
UID:2086-1759676400-1759687200@chemnitz-open.space
SUMMARY:Kaffeeklatsch + Tischtennis | Coffee chat + Table tennis
DESCRIPTION:Wir laden Euch dazu ein\, gemeinsam Kaffee zu trinken\, Kuchen zu essen und miteinander ins Gespräch zu kommen. Bringt gern selbst einen Kuchen\, Kekse\, Eis … mit. Von uns gibt es einen Kuchen und Kaffee. Bei schönem Wetter kann der Kaffeeklatsch draußen stattfinden. \nWir freuen uns auf Euch! \nPS: Wir haben jetzt auch eine Tischtennisplatte. Also bringt gern auch Euren Tischtennisschläger mit. \nWe invite you to drink coffee together\, eat cake and talk to each other. Feel free to bring your own cake\, biscuits\, ice cream … … with you. We will provide a cake and coffee. If the weather is nice\, the coffee chat can take place outside. \nWe look forward to seeing you! \nPS: We now also have a table tennis table. So feel free to bring your table tennis bat.
URL:https://chemnitz-open.space/event/kaffeeklatsch-tischtennis-coffee-chat-table-tennis-30/
LOCATION:Chemnitz Open Space\, Brückenstraße 10\, Chemnitz\, Sachsen\, 09111\, Deutschland
CATEGORIES:Mitmachen
END:VEVENT
BEGIN:VEVENT
DTSTART;TZID=Europe/Berlin:20251005T180000
DTEND;TZID=Europe/Berlin:20251005T210000
DTSTAMP:20260420T150905
CREATED:20250921T150531Z
LAST-MODIFIED:20250921T150531Z
UID:2767-1759687200-1759698000@chemnitz-open.space
SUMMARY:Vernissage: "Zwischen Schutz und Fragilität"
DESCRIPTION:Die Ausstellungseröffnung startet 18:00 Uhr im Stadthallenpark und beginnt nach einem gemeinsamen Walk ab 18:30 Uhr im Chemnitz Open Space. \nIm Rahmen der Ausstellungseröffnung wird es ein Künstler*innen-Gespräch geben (Moderation: Daniel Laufer). Musikalische Begleitung von den „Balagan Sisters“ \nZwischen Schutz und Fragilität“ ist Teil der Reihe Dagesh-Studio on the Road und findet in Kooperation mit Dagesh – Jüdische Kunst im Kontext\, einem Programm von DialoguePerspectives e.V. mit Unterstützung durch die Stiftung Erinnerung\, Verantwortung und Zukunft (EVZ) statt. \nDie Ausstellung „Zwischen Schutz und Fragilität“ greift diese zentralen Themen und Motive von Sukkot auf und präsentiert aktuelle Arbeiten von unterschiedlichen Dagesh-Künstler*innen. In ihren Werken setzen sich die Künstler*innen aus einer zeitgenössischen\, mehrdimensionalen Perspektive mit Themen wie Migration\, Grenzziehung\, Materialität\, Erinnerung und dem prekären Gleichgewicht von Sicherheit und Freiheit auseinander. Sie stellen dabei die Frage\, was es heute bedeutet\, Schutz zu suchen – physisch\, psychologisch\, spirituell. \n 
URL:https://chemnitz-open.space/event/vernissage-zwischen-schutz-und-fragilitaet/
LOCATION:Chemnitz Open Space\, Brückenstraße 10\, Chemnitz\, Sachsen\, 09111\, Deutschland
CATEGORIES:Ausstellung,Eröffnung
END:VEVENT
BEGIN:VEVENT
DTSTART;TZID=Europe/Berlin:20251006T170000
DTEND;TZID=Europe/Berlin:20251006T183000
DTSTAMP:20260420T150905
CREATED:20251004T151044Z
LAST-MODIFIED:20251004T151044Z
UID:2770-1759770000-1759775400@chemnitz-open.space
SUMMARY:Kuratorische Führung durch die Ausstellung
DESCRIPTION:Geführter Rundgang mit Dagesh-Kurator Daniel Laufer durch die Ausstellung „Zwischen Schutz und Fragilität“\nTreffpunkt: Eingang der Sukka im Park gegenüber der Galerie\nDaniel Laufer ist bildender Künstler und als Kurator von Dagesh tätig. Er studierte von 1999 bis 2004 an der Hochschule für bildende Künste Braunschweig. In den vergangenen Jahren hat Daniel Laufer seine Arbeiten in zahlreichen Ausstellungen weltweit präsentiert\, u. a. im Artists Space\, New York\, Artport\, Tel Aviv\, Jüdisches Museum Berlin\, Jüdischen Museum Frankfurt am Main\, Kunstmuseum Bonn\, Kunstverein Bonn\, Kunstverein für die Rheinlande und Westfalen\, Düsseldorf\, Kunstverein Hannover\, Kunstverein Hamburg Harburg\, Kunstverein Kassel\, Kunstverein St. Pauli\, und KW Institute for Contemporary Art\, Berlin \n  \n 
URL:https://chemnitz-open.space/event/kuratorische-fuehrung-durch-die-ausstellung/
CATEGORIES:Ausstellung
END:VEVENT
BEGIN:VEVENT
DTSTART;TZID=Europe/Berlin:20251009T170000
DTEND;TZID=Europe/Berlin:20251009T183000
DTSTAMP:20260420T150905
CREATED:20251004T151144Z
LAST-MODIFIED:20251004T151144Z
UID:2772-1760029200-1760034600@chemnitz-open.space
SUMMARY:Kuratorische Führung durch die Ausstellung
DESCRIPTION:Geführter Rundgang mit Dagesh-Kurator Daniel Laufer durch die Ausstellung „Zwischen Schutz und Fragilität“\nTreffpunkt: Eingang der Sukka im Park gegenüber der Galerie\nDaniel Laufer ist bildender Künstler und als Kurator von Dagesh tätig. Er studierte von 1999 bis 2004 an der Hochschule für bildende Künste Braunschweig. In den vergangenen Jahren hat Daniel Laufer seine Arbeiten in zahlreichen Ausstellungen weltweit präsentiert\, u. a. im Artists Space\, New York\, Artport\, Tel Aviv\, Jüdisches Museum Berlin\, Jüdischen Museum Frankfurt am Main\, Kunstmuseum Bonn\, Kunstverein Bonn\, Kunstverein für die Rheinlande und Westfalen\, Düsseldorf\, Kunstverein Hannover\, Kunstverein Hamburg Harburg\, Kunstverein Kassel\, Kunstverein St. Pauli\, und KW Institute for Contemporary Art\, Berlin \n  \n 
URL:https://chemnitz-open.space/event/kuratorische-fuehrung-durch-die-ausstellung-2/
CATEGORIES:Ausstellung
END:VEVENT
BEGIN:VEVENT
DTSTART;TZID=Europe/Berlin:20251010T110000
DTEND;TZID=Europe/Berlin:20251010T200000
DTSTAMP:20260420T150905
CREATED:20251004T160048Z
LAST-MODIFIED:20251008T153838Z
UID:2774-1760094000-1760126400@chemnitz-open.space
SUMMARY:Jiddisch Kurs
DESCRIPTION:Die Tage der jüdischen Kultur in Chemnitz nutzen das Kulturhauptstadtjahr 2025\, um an die positiven Erfahrungen aus dem Festjahr 2021 anzuknüpfen und erneut im Chemnitzer Stadthallenpark das Laubhüttenfest öffentlich und gemeinsam mit der jüdischen Gemeinde zu begehen. \nBei schlechten Wetterbedingungen werden vereinzelte Veranstaltungen vom Stadthallenpark in den Chemnitz Open Space verlegt. Diese sind wie folgt: \n  \nFreitag 10.10.:\n\n11:00 Uhr: Jiddisch redt sich: Jiddisch-Kurs\n14:00 Uhr: Found in Translation: Jiddisch durch Übersetzung lernen\n16:00 Uhr: Lesung: Die geheime Hütte im Wald\n\n \nBleibt auf dem aktuellsten Stand und erkundigt euch auch nach weiteren Veranstaltungen des Sukkot 2025 auf der Website der Tage der jüdischen Kultur in Chemnitz: www.tdjk.de\n 
URL:https://chemnitz-open.space/event/schlechtwetter-sukkot-2025/
LOCATION:Chemnitz Open Space\, Brückenstraße 10\, Chemnitz\, Sachsen\, 09111\, Deutschland
CATEGORIES:Ausstellung,Eröffnung,Information & Diskussion,Konzert,Lesung,Mitmachen,Vortrag,Workshop
END:VEVENT
BEGIN:VEVENT
DTSTART;TZID=Europe/Berlin:20251019T150000
DTEND;TZID=Europe/Berlin:20251019T180000
DTSTAMP:20260420T150905
CREATED:20240525T150835Z
LAST-MODIFIED:20250903T154314Z
UID:1781-1760886000-1760896800@chemnitz-open.space
SUMMARY:Kaffeeklatsch + Tischtennis | Coffee chat + Table tennis
DESCRIPTION:Wir laden Euch dazu ein\, gemeinsam Kaffee zu trinken\, Kuchen zu essen und miteinander ins Gespräch zu kommen. Bringt gern selbst einen Kuchen\, Kekse\, Eis … mit. Von uns gibt es einen Kuchen und Kaffee. Bei schönem Wetter kann der Kaffeeklatsch draußen stattfinden. \nWir freuen uns auf Euch! \nPS: Wir haben jetzt auch eine Tischtennisplatte. Also bringt gern auch Euren Tischtennisschläger mit. \nWe invite you to drink coffee together\, eat cake and talk to each other. Feel free to bring your own cake\, biscuits\, ice cream … … with you. We will provide a cake and coffee. If the weather is nice\, the coffee chat can take place outside. \nWe look forward to seeing you! \nPS: We now also have a table tennis table. So feel free to bring your table tennis bat.
URL:https://chemnitz-open.space/event/kaffeeklatsch-tischtennis-coffee-chat-table-tennis-18/
LOCATION:Chemnitz Open Space\, Brückenstraße 10\, Chemnitz\, Sachsen\, 09111\, Deutschland
CATEGORIES:Mitmachen
END:VEVENT
BEGIN:VEVENT
DTSTART;TZID=Europe/Berlin:20251022T150000
DTEND;TZID=Europe/Berlin:20251022T190000
DTSTAMP:20260420T150905
CREATED:20251004T172031Z
LAST-MODIFIED:20251004T172210Z
UID:2778-1761145200-1761159600@chemnitz-open.space
SUMMARY:Meinungsfreiheit in Deutschland – Balanceakt zwischen Grundrecht und gesellschaftlicher Verantwortung?
DESCRIPTION:Meinungsfreiheit ist ein zentrales Grundrecht in unserer Demokratie. Im Artikel 5 des Grundgesetzes heißt es: „Jede Person hat das Recht\, ihre Meinung in Wort\, Schrift und Bild frei zu äußern und zu verbreiten.“ Doch was bedeutet das im Konkreten und wie kommt es\, dass aktuell von verschiedensten Seiten Unmut rund um dieses Grundrecht geäußert wird? \nIn unserem Workshop möchten wir gemeinsam der Frage nachgehen\, wie Meinungsfreiheit heute in Deutschland gelebt und verhandelt wird – juristisch\, politisch und gesellschaftlich. \nWir fragen unter anderem:\n· Wie verhandeln wir als demokratische Gesellschaft\, was gesagt werden darf und was nicht?\n· Wie gehen wir in unserer Gesellschaft mit widersprüchlichen\, irreführenden oder diskriminierenden Aussagen um?\n· Welche politischen Narrative prägen das Verständnis von Meinungsfreiheit und wie beeinflussen sie unsere öffentliche Debatte? \nWas erwartet Euch?\n· Ein kompakter Überblick zur rechtlichen Grundlage der Meinungsfreiheit in Deutschland\n· Konkrete Beispiele aus Alltag\, Medien und Öffentlichkeit\n· Eine Auseinandersetzung mit politischen Narrativen rund um das Thema Meinungsfreiheit\n· Reflexion über eigene Haltungen\, Erfahrungen und Unsicherheiten \nUnser Ziel ist es\, Raum zu schaffen für ehrlichen Austausch\, unterschiedliche Perspektiven und gemeinsames Nachdenken über ein Recht\, das uns alle betrifft – und immer wieder neu ausgehandelt wird. \n  \nAnmeldung unter: post@chemnitz-open.space
URL:https://chemnitz-open.space/event/meinungsfreiheit-in-deutschland-balanceakt-zwischen-grundrecht-und-gesellschaftlicher-verantwortung/
CATEGORIES:Workshop
END:VEVENT
BEGIN:VEVENT
DTSTART;TZID=Europe/Berlin:20251023T180000
DTEND;TZID=Europe/Berlin:20251023T220000
DTSTAMP:20260420T150905
CREATED:20251004T172824Z
LAST-MODIFIED:20251022T181048Z
UID:2789-1761242400-1761256800@chemnitz-open.space
SUMMARY:Ausstellungseröffnung "unvereint/vereint"
DESCRIPTION:Die Ausstellungseröffnung startet 18:00 Uhr in der Universitätsbibliothek. Von dort aus gibt es einen Rundgang über den Omnibusbahnhof zum Chemnitz Open Space. \n  \nIm Kontext der Europäischen Kulturhauptstadt Chemnitz 2025 zeigen Studierende und Absolvent*innen der Hochschule für Grafik und Buchkunst Leipzig (HGB) unter dem Titel „unvereint/vereint“ in Kooperation mit der Technischen Universität Chemnitz eine Ausstellung an drei Orten: in der Universitätsbibliothek\, am Omnibusbahnhof und im Chemnitz Open Space. Die künstlerischen Arbeiten nehmen Bezug auf Themen der Kulturhauptstadt und deren Motto „C the Unseen“: die Transformationen seit 1989\, deren Folgen für heutige Debatten über gesellschaftlichen Zusammenhalt und politische Radikalisierung\, auf „Wir-Identitäten“ und deren Auflösungs-tendenzen sowie auf die Bedeutung zivilgesellschaftlichen Engagements für die Verteidigung der 1989 errungenen Werte. Im Fokus stehen dabei (anti)demokratische Entwicklungen\, Grenzen\, Formen des Protests und utopisch-spekulative Zukünfte. \nDie Ausstellung wird von einem Veranstaltungsprogramm begleitet: Podiumsdiskussionen\, Vorträge\, ein Literarisches Quintett und ein Kurzfilmabend mit Gästen aus Wissenschaft\, Kunst und Kultur laden zum Gespräch und Austausch ein.
URL:https://chemnitz-open.space/event/ausstellungseroeffnung-unvereint-vereint/
CATEGORIES:Ausstellung,Eröffnung
END:VEVENT
BEGIN:VEVENT
DTSTART;TZID=Europe/Berlin:20251026T150000
DTEND;TZID=Europe/Berlin:20251026T180000
DTSTAMP:20260420T150905
CREATED:20240703T174539Z
LAST-MODIFIED:20250903T154408Z
UID:1885-1761490800-1761501600@chemnitz-open.space
SUMMARY:Kaffeeklatsch + Tischtennis | Coffee chat + Table tennis
DESCRIPTION:Wir laden Euch dazu ein\, gemeinsam Kaffee zu trinken\, Kuchen zu essen und miteinander ins Gespräch zu kommen. Bringt gern selbst einen Kuchen\, Kekse\, Eis … mit. Von uns gibt es einen Kuchen und Kaffee. Bei schönem Wetter kann der Kaffeeklatsch draußen stattfinden. \nWir freuen uns auf Euch! \nPS: Wir haben jetzt auch eine Tischtennisplatte. Also bringt gern auch Euren Tischtennisschläger mit. \nWe invite you to drink coffee together\, eat cake and talk to each other. Feel free to bring your own cake\, biscuits\, ice cream … … with you. We will provide a cake and coffee. If the weather is nice\, the coffee chat can take place outside. \nWe look forward to seeing you! \nPS: We now also have a table tennis table. So feel free to bring your table tennis bat.
URL:https://chemnitz-open.space/event/kaffeeklatsch-tischtennis-coffee-chat-table-tennis-22/
LOCATION:Chemnitz Open Space\, Brückenstraße 10\, Chemnitz\, Sachsen\, 09111\, Deutschland
CATEGORIES:Mitmachen
END:VEVENT
BEGIN:VEVENT
DTSTART;TZID=Europe/Berlin:20251026T160000
DTEND;TZID=Europe/Berlin:20251026T193000
DTSTAMP:20260420T150905
CREATED:20240328T180458Z
LAST-MODIFIED:20251024T152057Z
UID:1534-1761494400-1761507000@chemnitz-open.space
SUMMARY:Игра мозговой штурм | Quiz-Spiel
DESCRIPTION:👋Дорогие друзья!\n🧠Наша игра мозговой штурм в Хемнице продолжается! \n🧠Собираемся на игру и вход в 16:00\, начало игры в 16.30.\n📍В нашей игре 6 раундов\, среди которых вопросы на логику\, с картинками\, музыкальные и многие другие.\n🔥Количество игроков в команде – 4 человека\, количество команд – 12.\n🚨Для регистрации команды пишите в личные сообщения.\n🎉После викторины будет вручение награды победителям!\n👉Мы приглашаем вас заранее собрать свою команду и прислать заявку с названием команды. Регистрация команд происходит в порядке получения заявки.\n👉Не стесняйтесь\, спрашивайте\, знакомтесь и объединяйтесь! \n👋Liebe Freunde!\n🧠Unser Quiz in Chemnitz geht weiter! \n🧠Spielvorbereitung und Einlass um 16:00 Uhr\, Spielbeginn um 16:30 Uhr.\n📍Unser Spiel besteht aus 6 Runden\, inklusive Fragen zur Logik\, mit Bildern\, Musik und vielem mehr.\n🔥Die Anzahl der Spieler in einem Team beträgt 4 Personen\, die Anzahl der Teams beträgt 12.\n🚨Um ein Team zu registrieren\, schreiben Sie private Nachrichten.\n🎉Nach dem Quiz werden den Gewinnern Preise verliehen!\n👉Wir laden Sie ein\, Ihr Team vorab zusammenzustellen und eine Bewerbung mit dem Teamnamen zu senden. Die Teamanmeldung erfolgt in der Reihenfolge des Anmeldeeingangs.\n👉Seien Sie nicht schüchtern\, fragen Sie\, lernen Sie sich kennen und schließen Sie sich zusammen! \n 
URL:https://chemnitz-open.space/event/%d0%b8%d0%b3%d1%80%d0%b0-%d0%bc%d0%be%d0%b7%d0%b3%d0%be%d0%b2%d0%be%d0%b9-%d1%88%d1%82%d1%83%d1%80%d0%bc-quiz-spiel-9/
LOCATION:Chemnitz Open Space\, Brückenstraße 10\, Chemnitz\, Sachsen\, 09111\, Deutschland
CATEGORIES:Mitmachen
END:VEVENT
BEGIN:VEVENT
DTSTART;TZID=Europe/Berlin:20251029T160000
DTEND;TZID=Europe/Berlin:20251029T170000
DTSTAMP:20260420T150905
CREATED:20251018T161509Z
LAST-MODIFIED:20251018T162753Z
UID:2837-1761753600-1761757200@chemnitz-open.space
SUMMARY:ContaKids
DESCRIPTION:ContaKids ist eine Bewegungsmethode für Kinder (Altersempfehlung: 2–5 Jahre) und deren Bezugspersonen. Durch gemeinsames Rollen\, Rutschen\, Tragen und Spielen entsteht Vertrauen\, Nähe und Freude an Bewegung. Im Mittelpunkt steht nicht das „Lehren“\, sondern das gemeinsame Erleben. Kinder dürfen sich ausprobieren – Eltern dürfen loslassen\, mitschwingen\, begleiten. \nDie Erwachsenen bewegen sich genauso wie die Kinder. Kommt also alle in bewegungsfreundlicher Kleidung\, und kommt auch gerne 10 Minuten früher um in eurer Geschwindigkeit ankommen zu können. \n 
URL:https://chemnitz-open.space/event/contakids-3/
LOCATION:Chemnitz Open Space\, Brückenstraße 10\, Chemnitz\, Sachsen\, 09111\, Deutschland
CATEGORIES:Mitmachen,Workshop
END:VEVENT
BEGIN:VEVENT
DTSTART;TZID=Europe/Berlin:20251029T180000
DTEND;TZID=Europe/Berlin:20251029T200000
DTSTAMP:20260420T150905
CREATED:20251017T124530Z
LAST-MODIFIED:20251017T124530Z
UID:2807-1761760800-1761768000@chemnitz-open.space
SUMMARY:Ostdeutsch\, westdeutsch oder doch etwas dazwischen?  Ein Vortrag zu aktuellen Entwicklungstendenzen in der Nachwendegeneration.
DESCRIPTION:Personen\, welche in Deutschland nach 1989 geboren wurden\, gehören der Nachwendegeneration an. Durch den Wohnort und die Sozialisierung gibt es dennoch bis heute Unterschiede in der Identität und den Einstellungen zu Ost- und Westdeutschland. In diesem Vortrag wird genauer auf solche Unterschiede und ihre Ursachen eingegangen\, aber auch gezeigt\, welche Gemeinsamkeiten in der Nachwendegeneration bestehen und wie diese gestärkt werden können. \nReferentin: Ayla Schaub\, Psychologin / Stipendiatin an der Professur Sozialpsychologie der TU Chemnitz \n  \nEine Veranstaltung im Rahmen der Ausstellung „unvereint/vereint“ der HGB Leipzig \n\n\n\n\n\n 
URL:https://chemnitz-open.space/event/ostdeutsch-westdeutsch-oder-doch-etwas-dazwischen-ein-vortrag-zu-aktuellen-entwicklungstendenzen-in-der-nachwendegeneration/
CATEGORIES:Vortrag
END:VEVENT
BEGIN:VEVENT
DTSTART;TZID=Europe/Berlin:20251031T153000
DTEND;TZID=Europe/Berlin:20251031T190000
DTSTAMP:20260420T150905
CREATED:20251004T172625Z
LAST-MODIFIED:20251004T172625Z
UID:2784-1761924600-1761937200@chemnitz-open.space
SUMMARY:Das čojč Theaternetzwerk stellt sich vor
DESCRIPTION:Das Čojč Theaternetzwerk Böhmen Bayern vereint seit 2002 Jugendliche aus Deutschland und Tschechien in Theaterprojekten\, Seminaren und auf der jährlichen Čojčlandská Konferenz. Im kreativen Spiel mit beiden Sprachen entstehen Begegnungen\, lebendiger Austausch und neue Ideen\, die Vergangenheit\, Gegenwart und Zukunft des Grenzgebiets miteinander verbinden. \nDie Čojčlandská Konferenz ist das zentrale Forum für Vernetzung und Weiterentwicklung. Hier blicken wir auf vergangene Projekte zurück\, treffen Entscheidungen basisdemokratisch und entwerfen gemeinsam neue Perspektiven. Auch neue Gesichter sind herzlich willkommen. Alle Interessierten sind in diesem Jahr zur Konferenz Eröffnung im Open Space eingeladen. Auf dem Programm stehen Musikworkshops\, eine Ausstellung\, theaterpädagogische Spiele und Projektpräsentationen. Im Anschluss laden wir alle\, die möchten\, in die Off-Bühne Komplex zu einer besonderen Theateraufführung ein.\nwww.cojc.eu \n 
URL:https://chemnitz-open.space/event/das-cojc-theaternetzwerk-stellt-sich-vor/
LOCATION:Chemnitz Open Space\, Brückenstraße 10\, Chemnitz\, Sachsen\, 09111\, Deutschland
CATEGORIES:Information & Diskussion
END:VEVENT
END:VCALENDAR