BEGIN:VCALENDAR
VERSION:2.0
PRODID:-//Chemnitz Open Space - ECPv6.15.20//NONSGML v1.0//EN
CALSCALE:GREGORIAN
METHOD:PUBLISH
X-WR-CALNAME:Chemnitz Open Space
X-ORIGINAL-URL:https://chemnitz-open.space
X-WR-CALDESC:Veranstaltungen für Chemnitz Open Space
REFRESH-INTERVAL;VALUE=DURATION:PT1H
X-Robots-Tag:noindex
X-PUBLISHED-TTL:PT1H
BEGIN:VTIMEZONE
TZID:Europe/Berlin
BEGIN:DAYLIGHT
TZOFFSETFROM:+0100
TZOFFSETTO:+0200
TZNAME:CEST
DTSTART:20240331T010000
END:DAYLIGHT
BEGIN:STANDARD
TZOFFSETFROM:+0200
TZOFFSETTO:+0100
TZNAME:CET
DTSTART:20241027T010000
END:STANDARD
BEGIN:DAYLIGHT
TZOFFSETFROM:+0100
TZOFFSETTO:+0200
TZNAME:CEST
DTSTART:20250330T010000
END:DAYLIGHT
BEGIN:STANDARD
TZOFFSETFROM:+0200
TZOFFSETTO:+0100
TZNAME:CET
DTSTART:20251026T010000
END:STANDARD
BEGIN:DAYLIGHT
TZOFFSETFROM:+0100
TZOFFSETTO:+0200
TZNAME:CEST
DTSTART:20260329T010000
END:DAYLIGHT
BEGIN:STANDARD
TZOFFSETFROM:+0200
TZOFFSETTO:+0100
TZNAME:CET
DTSTART:20261025T010000
END:STANDARD
END:VTIMEZONE
BEGIN:VEVENT
DTSTART;TZID=Europe/Berlin:20251220T150000
DTEND;TZID=Europe/Berlin:20251220T180000
DTSTAMP:20260420T201526
CREATED:20251112T182156Z
LAST-MODIFIED:20251112T182156Z
UID:2893-1766242800-1766253600@chemnitz-open.space
SUMMARY:Kurzfilm-Challenge hinterm Marx-Kopf – die besten Kurzfilme aller Zeiten!
DESCRIPTION:Die Kurz.Film.Scouts präsentieren: Die besten Kurzfilme\, die jemals gedreht wurden. Die Filme in unserem Programm brauchen keine langen Erklärungen oder Einführungen. Sie sind packend\, spannend\, witzig oder rührend. Wir meinen das ernst! Jeder Film ist ein kleines Meisterwerk\, mit einer Wirkung\, die dich nicht loslassen wird. \nDas ist die Challenge: Bring deine ganze Familie und sogar deine kritischsten Freunde mit und stell uns auf die Probe. Wir sind überzeugt\, dass wir alle umhauen werden – wetten? Die besten Kurzfilme\, die du je gesehen hast\, warten auf dich! \nSei dabei und erlebe unvergessliches Kino im besonderen Ambiente des Chemnitz Open Space. Am besten mit deinen Freund:innen! Inklusive Q&A mit Filmschaffenden\, Mitmach-Action & Get-together.
URL:https://chemnitz-open.space/event/kurzfilm-challenge-hinterm-marx-kopf-die-besten-kurzfilme-aller-zeiten/
CATEGORIES:Filmvorführung
END:VEVENT
END:VCALENDAR