BEGIN:VCALENDAR
VERSION:2.0
PRODID:-//Chemnitz Open Space - ECPv6.15.20//NONSGML v1.0//EN
CALSCALE:GREGORIAN
METHOD:PUBLISH
X-ORIGINAL-URL:https://chemnitz-open.space
X-WR-CALDESC:Veranstaltungen für Chemnitz Open Space
REFRESH-INTERVAL;VALUE=DURATION:PT1H
X-Robots-Tag:noindex
X-PUBLISHED-TTL:PT1H
BEGIN:VTIMEZONE
TZID:Europe/Berlin
BEGIN:DAYLIGHT
TZOFFSETFROM:+0100
TZOFFSETTO:+0200
TZNAME:CEST
DTSTART:20240331T010000
END:DAYLIGHT
BEGIN:STANDARD
TZOFFSETFROM:+0200
TZOFFSETTO:+0100
TZNAME:CET
DTSTART:20241027T010000
END:STANDARD
BEGIN:DAYLIGHT
TZOFFSETFROM:+0100
TZOFFSETTO:+0200
TZNAME:CEST
DTSTART:20250330T010000
END:DAYLIGHT
BEGIN:STANDARD
TZOFFSETFROM:+0200
TZOFFSETTO:+0100
TZNAME:CET
DTSTART:20251026T010000
END:STANDARD
BEGIN:DAYLIGHT
TZOFFSETFROM:+0100
TZOFFSETTO:+0200
TZNAME:CEST
DTSTART:20260329T010000
END:DAYLIGHT
BEGIN:STANDARD
TZOFFSETFROM:+0200
TZOFFSETTO:+0100
TZNAME:CET
DTSTART:20261025T010000
END:STANDARD
END:VTIMEZONE
BEGIN:VEVENT
DTSTART;TZID=Europe/Berlin:20251212T170000
DTEND;TZID=Europe/Berlin:20251212T180000
DTSTAMP:20260420T202026
CREATED:20251204T150624Z
LAST-MODIFIED:20251204T150624Z
UID:2968-1765558800-1765562400@chemnitz-open.space
SUMMARY:ContaKids
DESCRIPTION:ContaKids ist eine Bewegungsmethode für Kinder (Altersempfehlung: 2–5 Jahre) und deren Bezugspersonen. Durch gemeinsames Rollen\, Rutschen\, Tragen und Spielen entsteht Vertrauen\, Nähe und Freude an Bewegung. Im Mittelpunkt steht nicht das „Lehren“\, sondern das gemeinsame Erleben. Kinder dürfen sich ausprobieren – Eltern dürfen loslassen\, mitschwingen\, begleiten. \nDie Erwachsenen bewegen sich genauso wie die Kinder. Kommt also alle in bewegungsfreundlicher Kleidung\, und kommt auch gerne 10 Minuten früher um in eurer Geschwindigkeit ankommen zu können.
URL:https://chemnitz-open.space/event/contakids-5/
LOCATION:Chemnitz Open Space\, Brückenstraße 10\, Chemnitz\, Sachsen\, 09111\, Deutschland
CATEGORIES:Mitmachen
END:VEVENT
BEGIN:VEVENT
DTSTART;TZID=Europe/Berlin:20251212T190000
DTEND;TZID=Europe/Berlin:20251212T203000
DTSTAMP:20260420T202026
CREATED:20251120T155442Z
LAST-MODIFIED:20251120T160136Z
UID:2930-1765566000-1765571400@chemnitz-open.space
SUMMARY:Laternen-Parade
DESCRIPTION:Wenn am 12. Dezember ab 18 Uhr der Brühl im Licht hunderter Laternen erstrahlt\, feiert das Projekt Identeco 2025 seinen krönenden Abschluss. Unter dem Motto „Wie klingt Chemnitz?“ ziehen Menschen aus ganz Chemnitz als Ausdruck einer bunten\, vielfältigen Stadtgesellschaft gemeinsam durch das Zentrum – begleitet von Musik\, Licht und Gemeinschaft. Die Laternen-Parade ist mehr als nur ein Umzug: Sie ist das Ergebnis vieler gemeinsamer Wochen\, in denen unterschiedliche Menschen aus Chemnitz kreativ wurden. Außerdem kann bis zum 07.12. an der Identeco-Umfrage der Stadtteilpiloten teilgenommen werden. Inhaltlich befasst diese sich mit Identität und dem Lebensgefühl in Chemnitz und dauert lediglich 3-5min. Wer beim Umzug mit dabei sein möchte: Treffpunkt um 17.30 Uhr am Brühl 71\, dann Laternen-Parade in Begleitung von Musik und selbstgebauten Laternen. \nAnkunft gegen 19 Uhr im Chemnitz Open Space mit gemütlichem Beisammen sein.
URL:https://chemnitz-open.space/event/laternen-parade/
LOCATION:Chemnitz Open Space\, Brückenstraße 10\, Chemnitz\, Sachsen\, 09111\, Deutschland
CATEGORIES:Mitmachen
END:VEVENT
END:VCALENDAR