BEGIN:VCALENDAR
VERSION:2.0
PRODID:-//Chemnitz Open Space - ECPv6.15.20//NONSGML v1.0//EN
CALSCALE:GREGORIAN
METHOD:PUBLISH
X-ORIGINAL-URL:https://chemnitz-open.space
X-WR-CALDESC:Veranstaltungen für Chemnitz Open Space
REFRESH-INTERVAL;VALUE=DURATION:PT1H
X-Robots-Tag:noindex
X-PUBLISHED-TTL:PT1H
BEGIN:VTIMEZONE
TZID:Europe/Berlin
BEGIN:DAYLIGHT
TZOFFSETFROM:+0100
TZOFFSETTO:+0200
TZNAME:CEST
DTSTART:20240331T010000
END:DAYLIGHT
BEGIN:STANDARD
TZOFFSETFROM:+0200
TZOFFSETTO:+0100
TZNAME:CET
DTSTART:20241027T010000
END:STANDARD
BEGIN:DAYLIGHT
TZOFFSETFROM:+0100
TZOFFSETTO:+0200
TZNAME:CEST
DTSTART:20250330T010000
END:DAYLIGHT
BEGIN:STANDARD
TZOFFSETFROM:+0200
TZOFFSETTO:+0100
TZNAME:CET
DTSTART:20251026T010000
END:STANDARD
BEGIN:DAYLIGHT
TZOFFSETFROM:+0100
TZOFFSETTO:+0200
TZNAME:CEST
DTSTART:20260329T010000
END:DAYLIGHT
BEGIN:STANDARD
TZOFFSETFROM:+0200
TZOFFSETTO:+0100
TZNAME:CET
DTSTART:20261025T010000
END:STANDARD
END:VTIMEZONE
BEGIN:VEVENT
DTSTART;TZID=Europe/Berlin:20251207T150000
DTEND;TZID=Europe/Berlin:20251207T180000
DTSTAMP:20260420T201845
CREATED:20241031T145720Z
LAST-MODIFIED:20251024T152959Z
UID:2108-1765119600-1765130400@chemnitz-open.space
SUMMARY:Kaffeeklatsch + Tischtennis | Coffee chat + Table tennis
DESCRIPTION:Wir laden Euch dazu ein\, gemeinsam Kaffee zu trinken\, Kuchen zu essen und miteinander ins Gespräch zu kommen. Bringt gern selbst einen Kuchen\, Kekse\, Eis … mit. Von uns gibt es einen Kuchen und Kaffee. Bei schönem Wetter kann der Kaffeeklatsch draußen stattfinden. \nWir freuen uns auf Euch! \nPS: Wir haben jetzt auch eine Tischtennisplatte. Also bringt gern auch Euren Tischtennisschläger mit. \nWe invite you to drink coffee together\, eat cake and talk to each other. Feel free to bring your own cake\, biscuits\, ice cream … … with you. We will provide a cake and coffee. If the weather is nice\, the coffee chat can take place outside. \nWe look forward to seeing you! \nPS: We now also have a table tennis table. So feel free to bring your table tennis bat.
URL:https://chemnitz-open.space/event/kaffeeklatsch-tischtennis-coffee-chat-table-tennis-31/
LOCATION:Chemnitz Open Space\, Brückenstraße 10\, Chemnitz\, Sachsen\, 09111\, Deutschland
CATEGORIES:Mitmachen
END:VEVENT
BEGIN:VEVENT
DTSTART;TZID=Europe/Berlin:20251207T150000
DTEND;TZID=Europe/Berlin:20251207T180000
DTSTAMP:20260420T201845
CREATED:20251116T135154Z
LAST-MODIFIED:20251129T180943Z
UID:2916-1765119600-1765130400@chemnitz-open.space
SUMMARY:KULINARISCHER SPAZIERGANG | Wie der Osten schmeckt - Auf Erkundungstour durch Chemnitz
DESCRIPTION:Gemeinsam gehen wir auf kulinarische Entdeckungstour durch Chemnitz und spüren unserem Geschmack als Teil eines kulturellen Gedächtnisses nach: Welche Geschichten stecken in vertrauten Gerichten? Wie prägt Geschmack unsere Identität? Und was passiert\, wenn verschiedene Geschmäcker aufeinander treffen? Wir probieren uns durch Gerichte und Speisen aus verschiedenen Küchen\, die alle in Chemnitz zu Hause sind. Dabei erkunden wir\, was regionale Küche über Herkunft\, Wandel und Zugehörigkeit erzählt. \n  \nWir bitten um Anmeldung zum kulinarischen Spaziergang bis zum 1. Dezember an k.einheit.genz@gmail.com. \nAUSGEBUCHT! Anmeldung nur noch für die Warteliste möglich
URL:https://chemnitz-open.space/event/kulinarischer-spaziergang-wie-der-osten-schmeckt-auf-erkundungstour-durch-chemnitz/
LOCATION:Chemnitz Open Space\, Brückenstraße 10\, Chemnitz\, Sachsen\, 09111\, Deutschland
CATEGORIES:Mitmachen
END:VEVENT
BEGIN:VEVENT
DTSTART;TZID=Europe/Berlin:20251207T180000
DTEND;TZID=Europe/Berlin:20251207T200000
DTSTAMP:20260420T201845
CREATED:20250511T140928Z
LAST-MODIFIED:20251130T180159Z
UID:2516-1765130400-1765137600@chemnitz-open.space
SUMMARY:Buchclub Treffen
DESCRIPTION:Der Buchclub trifft sich wieder und bespricht in gemütlicher Runde das Buch „Heimat“ von Hannah Lühmann. \nLeseratten und Neugierige sind herzlich willkommen!
URL:https://chemnitz-open.space/event/buchclub-treffen-5/
LOCATION:Chemnitz Open Space\, Brückenstraße 10\, Chemnitz\, Sachsen\, 09111\, Deutschland
CATEGORIES:Gespräch
END:VEVENT
END:VCALENDAR