BEGIN:VCALENDAR
VERSION:2.0
PRODID:-//Chemnitz Open Space - ECPv6.15.20//NONSGML v1.0//EN
CALSCALE:GREGORIAN
METHOD:PUBLISH
X-WR-CALNAME:Chemnitz Open Space
X-ORIGINAL-URL:https://chemnitz-open.space
X-WR-CALDESC:Veranstaltungen für Chemnitz Open Space
REFRESH-INTERVAL;VALUE=DURATION:PT1H
X-Robots-Tag:noindex
X-PUBLISHED-TTL:PT1H
BEGIN:VTIMEZONE
TZID:Europe/Berlin
BEGIN:DAYLIGHT
TZOFFSETFROM:+0100
TZOFFSETTO:+0200
TZNAME:CEST
DTSTART:20240331T010000
END:DAYLIGHT
BEGIN:STANDARD
TZOFFSETFROM:+0200
TZOFFSETTO:+0100
TZNAME:CET
DTSTART:20241027T010000
END:STANDARD
BEGIN:DAYLIGHT
TZOFFSETFROM:+0100
TZOFFSETTO:+0200
TZNAME:CEST
DTSTART:20250330T010000
END:DAYLIGHT
BEGIN:STANDARD
TZOFFSETFROM:+0200
TZOFFSETTO:+0100
TZNAME:CET
DTSTART:20251026T010000
END:STANDARD
BEGIN:DAYLIGHT
TZOFFSETFROM:+0100
TZOFFSETTO:+0200
TZNAME:CEST
DTSTART:20260329T010000
END:DAYLIGHT
BEGIN:STANDARD
TZOFFSETFROM:+0200
TZOFFSETTO:+0100
TZNAME:CET
DTSTART:20261025T010000
END:STANDARD
END:VTIMEZONE
BEGIN:VEVENT
DTSTART;TZID=Europe/Berlin:20251203T160000
DTEND;TZID=Europe/Berlin:20251203T170000
DTSTAMP:20260420T201525
CREATED:20251116T134202Z
LAST-MODIFIED:20251203T130923Z
UID:2902-1764777600-1764781200@chemnitz-open.space
SUMMARY:Nervensystemregulierung Part II: Breath Regulation - fällt krankheitsbedingt leider aus!
DESCRIPTION:Workshop mit klaren Atemtechniken zur Reduktion von Stress und Angstsymptomen. Ziel ist ein direkt anwendbares Verständnis für Atemphysiologie und Nervensystem. Über die Lehrerin: Lena Rothe\, 500-Stunden-Yogaausbildung. Unterrichtserfahrung in Indien\, Sri Lanka und Indonesien. Keine Vorerfahrung notwendig. \nFokus liegt auf Atemtechniken und Nervensystem. Yogamatten oder Sitzkissen optional\, aber hilfreich. \nAnmeldung per Mail an: lenarothe1995@gmail.com
URL:https://chemnitz-open.space/event/nervensystemregulierung-part-ii-breath-regulation/
LOCATION:Chemnitz Open Space\, Brückenstraße 10\, Chemnitz\, Sachsen\, 09111\, Deutschland
CATEGORIES:Mitmachen,Workshop
END:VEVENT
END:VCALENDAR