BEGIN:VCALENDAR
VERSION:2.0
PRODID:-//Chemnitz Open Space - ECPv6.15.20//NONSGML v1.0//EN
CALSCALE:GREGORIAN
METHOD:PUBLISH
X-WR-CALNAME:Chemnitz Open Space
X-ORIGINAL-URL:https://chemnitz-open.space
X-WR-CALDESC:Veranstaltungen für Chemnitz Open Space
REFRESH-INTERVAL;VALUE=DURATION:PT1H
X-Robots-Tag:noindex
X-PUBLISHED-TTL:PT1H
BEGIN:VTIMEZONE
TZID:Europe/Berlin
BEGIN:DAYLIGHT
TZOFFSETFROM:+0100
TZOFFSETTO:+0200
TZNAME:CEST
DTSTART:20240331T010000
END:DAYLIGHT
BEGIN:STANDARD
TZOFFSETFROM:+0200
TZOFFSETTO:+0100
TZNAME:CET
DTSTART:20241027T010000
END:STANDARD
BEGIN:DAYLIGHT
TZOFFSETFROM:+0100
TZOFFSETTO:+0200
TZNAME:CEST
DTSTART:20250330T010000
END:DAYLIGHT
BEGIN:STANDARD
TZOFFSETFROM:+0200
TZOFFSETTO:+0100
TZNAME:CET
DTSTART:20251026T010000
END:STANDARD
BEGIN:DAYLIGHT
TZOFFSETFROM:+0100
TZOFFSETTO:+0200
TZNAME:CEST
DTSTART:20260329T010000
END:DAYLIGHT
BEGIN:STANDARD
TZOFFSETFROM:+0200
TZOFFSETTO:+0100
TZNAME:CET
DTSTART:20261025T010000
END:STANDARD
END:VTIMEZONE
BEGIN:VEVENT
DTSTART;TZID=Europe/Berlin:20251129T153000
DTEND;TZID=Europe/Berlin:20251129T173000
DTSTAMP:20260420T181633
CREATED:20251024T170028Z
LAST-MODIFIED:20251128T143549Z
UID:2871-1764430200-1764437400@chemnitz-open.space
SUMMARY:Senbazuru und Kalligrafie
DESCRIPTION:Herzliche Einladung zum Kalligrafie-Workshop mit Frau Chieko Shikata. \nDies ist ein Folge-Angebot zu unserem Projekt  SENBAZURU-1000 KRANICHE FÜR CHEMNITZ 2025 mit der Ausstellung im Chemnitz Open Space ( 30.7. – 05.9.25 ).\nDer Workshop wendet sich an kreative Jugendliche und Erwachsene. Er ist kostenfrei\, Material ist vorhanden. \nUm Voranmeldung wird gebeten unter der Mail: 1000KranicheChemnitz2025@web.de \n  \nWICHTIG : Dunkle Kleidung\, Schürze oder altes T-Shirt anziehen/ mitbringen!
URL:https://chemnitz-open.space/event/senbazuru-und-kalligrafie/
END:VEVENT
END:VCALENDAR