BEGIN:VCALENDAR
VERSION:2.0
PRODID:-//Chemnitz Open Space - ECPv6.15.20//NONSGML v1.0//EN
CALSCALE:GREGORIAN
METHOD:PUBLISH
X-WR-CALNAME:Chemnitz Open Space
X-ORIGINAL-URL:https://chemnitz-open.space
X-WR-CALDESC:Veranstaltungen für Chemnitz Open Space
REFRESH-INTERVAL;VALUE=DURATION:PT1H
X-Robots-Tag:noindex
X-PUBLISHED-TTL:PT1H
BEGIN:VTIMEZONE
TZID:Europe/Berlin
BEGIN:DAYLIGHT
TZOFFSETFROM:+0100
TZOFFSETTO:+0200
TZNAME:CEST
DTSTART:20240331T010000
END:DAYLIGHT
BEGIN:STANDARD
TZOFFSETFROM:+0200
TZOFFSETTO:+0100
TZNAME:CET
DTSTART:20241027T010000
END:STANDARD
BEGIN:DAYLIGHT
TZOFFSETFROM:+0100
TZOFFSETTO:+0200
TZNAME:CEST
DTSTART:20250330T010000
END:DAYLIGHT
BEGIN:STANDARD
TZOFFSETFROM:+0200
TZOFFSETTO:+0100
TZNAME:CET
DTSTART:20251026T010000
END:STANDARD
BEGIN:DAYLIGHT
TZOFFSETFROM:+0100
TZOFFSETTO:+0200
TZNAME:CEST
DTSTART:20260329T010000
END:DAYLIGHT
BEGIN:STANDARD
TZOFFSETFROM:+0200
TZOFFSETTO:+0100
TZNAME:CET
DTSTART:20261025T010000
END:STANDARD
END:VTIMEZONE
BEGIN:VEVENT
DTSTART;TZID=Europe/Berlin:20251122T120000
DTEND;TZID=Europe/Berlin:20251122T143000
DTSTAMP:20260420T181627
CREATED:20251024T165643Z
LAST-MODIFIED:20251120T140322Z
UID:2868-1763812800-1763821800@chemnitz-open.space
SUMMARY:Kein Vergeben! Kein Vergessen! - Der Mord an Patrick Thürmer und anderen Punks in Deutschland seit 1990
DESCRIPTION:Am 02. Oktober 1999 wird der erst 17-jährige Patrick Thürmer ermordet. Er befindet sich auf dem Heimweg von einem Punk-Konzert\, das im sächsischen Hohenstein-Ernstthal stattgefunden hat\, als ihn drei Neonazis überfallen und brutal zusammenschlagen\, so dass er nur wenige Stunden später seinen zahlreichen Verletzungen erliegt. Patrick ist einer von mindestens zehn Punks\, die seit 1990 in Deutschland von Neonazis ermordet worden sind\, weil sie nicht in deren ausgrenzend-diskriminierendes Weltbild gepasst haben. \nDer Vortrag gibt einen Überblick über eben jene zehn rechten Mordfälle. Daran anknüpfend wird der Tathergang des Mordes an Patrick Thürmer sowie die damit verbundenen Konsequenzen beleuchtet\, wie antifaschistische Strukturen\, die Polizei sowie die Öffentlichkeit mit eben jener Tat umgegangen sind. Abschließend werden anhand des Gedenkens an Patrick Thürmer verschiedene Möglichkeiten vorgestellt\, wie ein würdevolles Erinnern an die Opfer rechter Gewalt organisiert und umgesetzt werden kann.
URL:https://chemnitz-open.space/event/zur-geschichte-und-kontinuitaeten-rechter-gewalt-in-der-nachwendezeit/
CATEGORIES:Vortrag
END:VEVENT
BEGIN:VEVENT
DTSTART;TZID=Europe/Berlin:20251122T143000
DTEND;TZID=Europe/Berlin:20251122T153000
DTSTAMP:20260420T181627
CREATED:20251121T152021Z
LAST-MODIFIED:20251121T152021Z
UID:2936-1763821800-1763825400@chemnitz-open.space
SUMMARY:ContaKids
DESCRIPTION:ContaKids ist eine Bewegungsmethode für Kinder (Altersempfehlung: 2–5 Jahre) und deren Bezugspersonen. Durch gemeinsames Rollen\, Rutschen\, Tragen und Spielen entsteht Vertrauen\, Nähe und Freude an Bewegung. Im Mittelpunkt steht nicht das „Lehren“\, sondern das gemeinsame Erleben. Kinder dürfen sich ausprobieren – Eltern dürfen loslassen\, mitschwingen\, begleiten. \nDie Erwachsenen bewegen sich genauso wie die Kinder. Kommt also alle in bewegungsfreundlicher Kleidung\, und kommt auch gerne 10 Minuten früher um in eurer Geschwindigkeit ankommen zu können. \n  \n 
URL:https://chemnitz-open.space/event/contakids-4/
CATEGORIES:Mitmachen
END:VEVENT
BEGIN:VEVENT
DTSTART;TZID=Europe/Berlin:20251122T160000
DTEND;TZID=Europe/Berlin:20251122T190000
DTSTAMP:20260420T181627
CREATED:20251108T152312Z
LAST-MODIFIED:20251108T152312Z
UID:2884-1763827200-1763838000@chemnitz-open.space
SUMMARY:Lesung und Talk mit Teresa Katz "Vielseitig Desinteressiert und trotzdem voller Meinung"
DESCRIPTION:Wie nehmen junge Menschen\, allen voran die GenZ\, den gesellschaftlichen Wandel wahr? Zwischen Ost und West\, Vergangenheit und Zukunft bewegen sich Fragen nach Identität\, Werten und Zusammenhalt. Gemeinsam mit der Autorin Teresa Katz werfen wir einen Blick auf das Generationsverständnis\, mögliche Konflikte und Zukunftsvorstellungen. Wir verbinden persönliche Einblicke mit gesellschaftlichen Beobachtungen und möchten gemeinsam Brücken zwischen unterschiedlichen Lebensrealitäten schlagen. \n  \nEine Veranstaltung im Rahmen der Ausstellung „Next Gen East x Schichtwechsel“.
URL:https://chemnitz-open.space/event/lesung-und-talk-mit-teresa-katz-vielseitig-desinteressiert-und-trotzdem-voller-meinung/
CATEGORIES:Lesung
END:VEVENT
END:VCALENDAR