BEGIN:VCALENDAR
VERSION:2.0
PRODID:-//Chemnitz Open Space - ECPv6.15.20//NONSGML v1.0//EN
CALSCALE:GREGORIAN
METHOD:PUBLISH
X-ORIGINAL-URL:https://chemnitz-open.space
X-WR-CALDESC:Veranstaltungen für Chemnitz Open Space
REFRESH-INTERVAL;VALUE=DURATION:PT1H
X-Robots-Tag:noindex
X-PUBLISHED-TTL:PT1H
BEGIN:VTIMEZONE
TZID:Europe/Berlin
BEGIN:DAYLIGHT
TZOFFSETFROM:+0100
TZOFFSETTO:+0200
TZNAME:CEST
DTSTART:20240331T010000
END:DAYLIGHT
BEGIN:STANDARD
TZOFFSETFROM:+0200
TZOFFSETTO:+0100
TZNAME:CET
DTSTART:20241027T010000
END:STANDARD
BEGIN:DAYLIGHT
TZOFFSETFROM:+0100
TZOFFSETTO:+0200
TZNAME:CEST
DTSTART:20250330T010000
END:DAYLIGHT
BEGIN:STANDARD
TZOFFSETFROM:+0200
TZOFFSETTO:+0100
TZNAME:CET
DTSTART:20251026T010000
END:STANDARD
BEGIN:DAYLIGHT
TZOFFSETFROM:+0100
TZOFFSETTO:+0200
TZNAME:CEST
DTSTART:20260329T010000
END:DAYLIGHT
BEGIN:STANDARD
TZOFFSETFROM:+0200
TZOFFSETTO:+0100
TZNAME:CET
DTSTART:20261025T010000
END:STANDARD
END:VTIMEZONE
BEGIN:VEVENT
DTSTART;TZID=Europe/Berlin:20251119T160000
DTEND;TZID=Europe/Berlin:20251119T170000
DTSTAMP:20260420T201952
CREATED:20251116T133708Z
LAST-MODIFIED:20251116T134733Z
UID:2898-1763568000-1763571600@chemnitz-open.space
SUMMARY:Nervensystemregulierung Part I: Somatic Flow
DESCRIPTION:Ein sanfter Yoga-Workshop mit Fokus auf somatischen Übungen und Stressreduktion. Die Teilnehmenden lernen\, wie sie durch langsame Bewegung und Körperwahrnehmung innere Ruhe aufbauen. Über die Lehrerin: Lena Rothe hat eine 500-Stunden-Yogaausbildung und unterrichtet in Indien\, Sri Lanka und Indonesien. Sie verbindet somatische Übungen\, funktionale Bewegung und Nervensystemwissen. \nBitte eigene Yogamatte mitbringen.  \nKeine Vorerfahrung nötig.  \nAnmeldung per Mail an: lenarothe1995@gmail.com \nMehr: instagram.com/vistasofvinyasa/ \n  \n \n 
URL:https://chemnitz-open.space/event/nervensystemregulierung-part-i-somatic-flow/
CATEGORIES:Mitmachen,Workshop
END:VEVENT
END:VCALENDAR