BEGIN:VCALENDAR
VERSION:2.0
PRODID:-//Chemnitz Open Space - ECPv6.15.20//NONSGML v1.0//EN
CALSCALE:GREGORIAN
METHOD:PUBLISH
X-WR-CALNAME:Chemnitz Open Space
X-ORIGINAL-URL:https://chemnitz-open.space
X-WR-CALDESC:Veranstaltungen für Chemnitz Open Space
REFRESH-INTERVAL;VALUE=DURATION:PT1H
X-Robots-Tag:noindex
X-PUBLISHED-TTL:PT1H
BEGIN:VTIMEZONE
TZID:Europe/Berlin
BEGIN:DAYLIGHT
TZOFFSETFROM:+0100
TZOFFSETTO:+0200
TZNAME:CEST
DTSTART:20240331T010000
END:DAYLIGHT
BEGIN:STANDARD
TZOFFSETFROM:+0200
TZOFFSETTO:+0100
TZNAME:CET
DTSTART:20241027T010000
END:STANDARD
BEGIN:DAYLIGHT
TZOFFSETFROM:+0100
TZOFFSETTO:+0200
TZNAME:CEST
DTSTART:20250330T010000
END:DAYLIGHT
BEGIN:STANDARD
TZOFFSETFROM:+0200
TZOFFSETTO:+0100
TZNAME:CET
DTSTART:20251026T010000
END:STANDARD
BEGIN:DAYLIGHT
TZOFFSETFROM:+0100
TZOFFSETTO:+0200
TZNAME:CEST
DTSTART:20260329T010000
END:DAYLIGHT
BEGIN:STANDARD
TZOFFSETFROM:+0200
TZOFFSETTO:+0100
TZNAME:CET
DTSTART:20261025T010000
END:STANDARD
END:VTIMEZONE
BEGIN:VEVENT
DTSTART;TZID=Europe/Berlin:20251112T160000
DTEND;TZID=Europe/Berlin:20251112T180000
DTSTAMP:20260420T182524
CREATED:20251024T164337Z
LAST-MODIFIED:20251024T164551Z
UID:2857-1762963200-1762970400@chemnitz-open.space
SUMMARY:Finanzbasics für Unternehmerinnen
DESCRIPTION:Stärke deine finanziellen Kompetenzen und besuche den Workshop „Finanzbasics für Unternehmer*innen“.\n \nInhalte:\n1. Budgetieren: Schluss mit dem Gedanken „Ich spare\, was am Monatsende übrig ist!“ Entdecke die Kunst des gezielten Budgetierens\, indem du dich selbst am Monatsanfang bezahlst und Einnahmen klug aufbereitest.\n2. Money Mindset: Wer bist du\, wenn es um Geld geht? Erforsche\, was du über Geld gelernt und verinnerlicht hast. Lerne\, wie du (bisher) mit Geld umgehst und warum.\n3. Finanzielle Ziele setzen: Wo möchtest du finanziell hin? Diese Frage ist entscheidend\, um die Lust und den Überblick über deine Finanzen nicht zu verlieren.\n4. Ist doch noch ewig hin – Altersvorsorge: langfristig Geld anlegen mit ETFs: Erfahre alles über ETFs\, finde den passenden für dich und beachte wichtige Kriterien- folge dem einfachen 3-Schritte-Plan für deine Geldanlage mit ETFs.Referentin: Kristin Kubanek von MoneyFacture \n\n \nDie Veranstaltung ist ausschließlich an Flinta*-Personen gerichtet.
URL:https://chemnitz-open.space/event/finanzbasics-fuer-unternehmerinnen/
END:VEVENT
END:VCALENDAR