BEGIN:VCALENDAR
VERSION:2.0
PRODID:-//Chemnitz Open Space - ECPv6.15.20//NONSGML v1.0//EN
CALSCALE:GREGORIAN
METHOD:PUBLISH
X-ORIGINAL-URL:https://chemnitz-open.space
X-WR-CALDESC:Veranstaltungen für Chemnitz Open Space
REFRESH-INTERVAL;VALUE=DURATION:PT1H
X-Robots-Tag:noindex
X-PUBLISHED-TTL:PT1H
BEGIN:VTIMEZONE
TZID:Europe/Berlin
BEGIN:DAYLIGHT
TZOFFSETFROM:+0100
TZOFFSETTO:+0200
TZNAME:CEST
DTSTART:20240331T010000
END:DAYLIGHT
BEGIN:STANDARD
TZOFFSETFROM:+0200
TZOFFSETTO:+0100
TZNAME:CET
DTSTART:20241027T010000
END:STANDARD
BEGIN:DAYLIGHT
TZOFFSETFROM:+0100
TZOFFSETTO:+0200
TZNAME:CEST
DTSTART:20250330T010000
END:DAYLIGHT
BEGIN:STANDARD
TZOFFSETFROM:+0200
TZOFFSETTO:+0100
TZNAME:CET
DTSTART:20251026T010000
END:STANDARD
BEGIN:DAYLIGHT
TZOFFSETFROM:+0100
TZOFFSETTO:+0200
TZNAME:CEST
DTSTART:20260329T010000
END:DAYLIGHT
BEGIN:STANDARD
TZOFFSETFROM:+0200
TZOFFSETTO:+0100
TZNAME:CET
DTSTART:20261025T010000
END:STANDARD
END:VTIMEZONE
BEGIN:VEVENT
DTSTART;TZID=Europe/Berlin:20251108T143000
DTEND;TZID=Europe/Berlin:20251108T170000
DTSTAMP:20260420T183034
CREATED:20251017T133112Z
LAST-MODIFIED:20251018T131118Z
UID:2817-1762612200-1762621200@chemnitz-open.space
SUMMARY:Workshop: Plan C
DESCRIPTION:Die Zeitreiseagentur Morgen Tour lädt die Chemnitzerinnen und Chemnitzer zur Schule der Zukunftsguides ein. In diesem spielerischen Workshop werft ihr einen Blick in mögliche (oder sogar unmögliche) Zukünfte von Chemnitz und schlüpft kurzzeitig in die Rolle einer zeitreisenden Reiseleitung. Seht\, hört und fühlt das entstehende Chemnitz der Zukunft – geformt von euren Hoffnungen\, Wünschen und Träumen – auf einem spielerischen Erkundungsspaziergang mit Asya Volodina\, Game Designerin und Praktikerin partizipativer Kunst. \n// Time travel agency Morgen Tour invites residents of Chemnitz to the School for the Guides to the Future. In this playful workshop you take a look into some possible (or even impossible) future of Chemnitz and shortly try out a role of a time travelling guide. See\, hear and feel Chemnitz of the future emerging\, shaped by your hopes\, wishes and dreams on a playful exploration walk with Asya Volodina — a game designer and participatory art practitioner. Languages: English\, German. \n  \nAnmeldung unter: volodina@hgb-leipzig.de \nEine Veranstaltung im Rahmen der Ausstellung „unvereint/vereint“ der HGB Leipzig \n 
URL:https://chemnitz-open.space/event/workshop-plan-c-2/
CATEGORIES:Workshop
END:VEVENT
BEGIN:VEVENT
DTSTART;TZID=Europe/Berlin:20251108T180000
DTEND;TZID=Europe/Berlin:20251108T200000
DTSTAMP:20260420T183034
CREATED:20251017T125144Z
LAST-MODIFIED:20251107T144936Z
UID:2811-1762624800-1762632000@chemnitz-open.space
SUMMARY:ABGESAGT: Kunst als Gemeinschaffen. Zwischen gelebter Praxis und utopischem Horizont
DESCRIPTION:In dem interaktiven Vortrag nähern wir uns gemeinsam dem Konzept Commoning Art: Wie können künstlerische Praktiken\, im Zusammenspiel mit sozialökologischen Bewegungen\, zu Möglichkeitsräumen des Gemeinsamen werden? Wir entwickeln Perspektiven auf Kunst als geteilte Verantwortung\, als Prozess kollektiver Imagination und als Impuls gesellschaftlicher Transformation. Referentin: Vera Hofmann\, Künstlerin und Co-Autorin von „Commoning Art – Die transformativen Potentiale von Commons in der Kunst“ \n  \nEine Veranstaltung im Rahmen der Ausstellung „unvereint/vereint“ der HGB Leipzig \n 
URL:https://chemnitz-open.space/event/kunst-als-gemeinschaffen-zwischen-gelebter-praxis-und-utopischem-horizont/
LOCATION:Chemnitz Open Space\, Brückenstraße 10\, Chemnitz\, Sachsen\, 09111\, Deutschland
CATEGORIES:Vortrag
END:VEVENT
END:VCALENDAR