BEGIN:VCALENDAR
VERSION:2.0
PRODID:-//Chemnitz Open Space - ECPv6.15.20//NONSGML v1.0//EN
CALSCALE:GREGORIAN
METHOD:PUBLISH
X-ORIGINAL-URL:https://chemnitz-open.space
X-WR-CALDESC:Veranstaltungen für Chemnitz Open Space
REFRESH-INTERVAL;VALUE=DURATION:PT1H
X-Robots-Tag:noindex
X-PUBLISHED-TTL:PT1H
BEGIN:VTIMEZONE
TZID:Europe/Berlin
BEGIN:DAYLIGHT
TZOFFSETFROM:+0100
TZOFFSETTO:+0200
TZNAME:CEST
DTSTART:20240331T010000
END:DAYLIGHT
BEGIN:STANDARD
TZOFFSETFROM:+0200
TZOFFSETTO:+0100
TZNAME:CET
DTSTART:20241027T010000
END:STANDARD
BEGIN:DAYLIGHT
TZOFFSETFROM:+0100
TZOFFSETTO:+0200
TZNAME:CEST
DTSTART:20250330T010000
END:DAYLIGHT
BEGIN:STANDARD
TZOFFSETFROM:+0200
TZOFFSETTO:+0100
TZNAME:CET
DTSTART:20251026T010000
END:STANDARD
BEGIN:DAYLIGHT
TZOFFSETFROM:+0100
TZOFFSETTO:+0200
TZNAME:CEST
DTSTART:20260329T010000
END:DAYLIGHT
BEGIN:STANDARD
TZOFFSETFROM:+0200
TZOFFSETTO:+0100
TZNAME:CET
DTSTART:20261025T010000
END:STANDARD
END:VTIMEZONE
BEGIN:VEVENT
DTSTART;TZID=Europe/Berlin:20251107T180000
DTEND;TZID=Europe/Berlin:20251107T200000
DTSTAMP:20260420T182104
CREATED:20251017T132838Z
LAST-MODIFIED:20251018T130717Z
UID:2815-1762538400-1762545600@chemnitz-open.space
SUMMARY:Workshop: Plan C
DESCRIPTION:Die Zeitreiseagentur Morgen Tour lädt die Chemnitzerinnen und Chemnitzer zur Schule der Zukunftsguides ein. In diesem spielerischen Workshop werft ihr einen Blick in mögliche (oder sogar unmögliche) Zukünfte von Chemnitz und schlüpft kurzzeitig in die Rolle einer zeitreisenden Reiseleitung. Seht\, hört und fühlt das entstehende Chemnitz der Zukunft – geformt von euren Hoffnungen\, Wünschen und Träumen – auf einem spielerischen Erkundungsspaziergang mit Asya Volodina\, Game Designerin und Praktikerin partizipativer Kunst. \n// Time travel agency Morgen Tour invites residents of Chemnitz to the School for the Guides to the Future. In this playful workshop you take a look into some possible (or even impossible) future of Chemnitz and shortly try out a role of a time travelling guide. See\, hear and feel Chemnitz of the future emerging\, shaped by your hopes\, wishes and dreams on a playful exploration walk with Asya Volodina — a game designer and participatory art practitioner. Languages: English\, German. \nAnmeldung unter: volodina@hgb-leipzig.de \nEine Veranstaltung im Rahmen der Ausstellung „unvereint/vereint“ der HGB Leipzig \n 
URL:https://chemnitz-open.space/event/workshop-plan-c/
CATEGORIES:Workshop
END:VEVENT
END:VCALENDAR