BEGIN:VCALENDAR
VERSION:2.0
PRODID:-//Chemnitz Open Space - ECPv6.15.20//NONSGML v1.0//EN
CALSCALE:GREGORIAN
METHOD:PUBLISH
X-WR-CALNAME:Chemnitz Open Space
X-ORIGINAL-URL:https://chemnitz-open.space
X-WR-CALDESC:Veranstaltungen für Chemnitz Open Space
REFRESH-INTERVAL;VALUE=DURATION:PT1H
X-Robots-Tag:noindex
X-PUBLISHED-TTL:PT1H
BEGIN:VTIMEZONE
TZID:Europe/Berlin
BEGIN:DAYLIGHT
TZOFFSETFROM:+0100
TZOFFSETTO:+0200
TZNAME:CEST
DTSTART:20240331T010000
END:DAYLIGHT
BEGIN:STANDARD
TZOFFSETFROM:+0200
TZOFFSETTO:+0100
TZNAME:CET
DTSTART:20241027T010000
END:STANDARD
BEGIN:DAYLIGHT
TZOFFSETFROM:+0100
TZOFFSETTO:+0200
TZNAME:CEST
DTSTART:20250330T010000
END:DAYLIGHT
BEGIN:STANDARD
TZOFFSETFROM:+0200
TZOFFSETTO:+0100
TZNAME:CET
DTSTART:20251026T010000
END:STANDARD
BEGIN:DAYLIGHT
TZOFFSETFROM:+0100
TZOFFSETTO:+0200
TZNAME:CEST
DTSTART:20260329T010000
END:DAYLIGHT
BEGIN:STANDARD
TZOFFSETFROM:+0200
TZOFFSETTO:+0100
TZNAME:CET
DTSTART:20261025T010000
END:STANDARD
END:VTIMEZONE
BEGIN:VEVENT
DTSTART;TZID=Europe/Berlin:20251102T150000
DTEND;TZID=Europe/Berlin:20251102T170000
DTSTAMP:20260420T163134
CREATED:20251018T163113Z
LAST-MODIFIED:20251024T164827Z
UID:2841-1762095600-1762102800@chemnitz-open.space
SUMMARY:Contact Improvisation für Erwachsene
DESCRIPTION:Bei der Contact Improvisation geht es um die aktive Entdeckung aller Bewegungsmöglichkeiten\, die zwei oder mehr menschliche Körper ausführen können. \nContact Improvisation ist eine sehr freie und spielerische Form des miteinander Tanzens\, für das es keine besonderen Kenntnisse oder Erfahrung braucht. Jede:r Tänzer:in und Nichttänzer:in ist eingeladen mitzutanzen. In der Regel entsteht viel Körperkontakt\, weshalb wir uns auch mit physischen und psychischen Grenzen auseinandersetzen und gemeinsam tänzerische Begegnungen reflektieren.
URL:https://chemnitz-open.space/event/contact-improvisation/
LOCATION:Chemnitz Open Space\, Brückenstraße 10\, Chemnitz\, Sachsen\, 09111\, Deutschland
CATEGORIES:Mitmachen,Workshop
END:VEVENT
BEGIN:VEVENT
DTSTART;TZID=Europe/Berlin:20251102T150000
DTEND;TZID=Europe/Berlin:20251102T180000
DTSTAMP:20260420T163134
CREATED:20241005T145553Z
LAST-MODIFIED:20251004T134953Z
UID:2084-1762095600-1762106400@chemnitz-open.space
SUMMARY:Kaffeeklatsch + Tischtennis | Coffee chat + Table tennis
DESCRIPTION:Wir laden Euch dazu ein\, gemeinsam Kaffee zu trinken\, Kuchen zu essen und miteinander ins Gespräch zu kommen. Bringt gern selbst einen Kuchen\, Kekse\, Eis … mit. Von uns gibt es einen Kuchen und Kaffee. Bei schönem Wetter kann der Kaffeeklatsch draußen stattfinden. \nWir freuen uns auf Euch! \nPS: Wir haben jetzt auch eine Tischtennisplatte. Also bringt gern auch Euren Tischtennisschläger mit. \nWe invite you to drink coffee together\, eat cake and talk to each other. Feel free to bring your own cake\, biscuits\, ice cream … … with you. We will provide a cake and coffee. If the weather is nice\, the coffee chat can take place outside. \nWe look forward to seeing you! \nPS: We now also have a table tennis table. So feel free to bring your table tennis bat.
URL:https://chemnitz-open.space/event/kaffeeklatsch-tischtennis-coffee-chat-table-tennis-29/
LOCATION:Chemnitz Open Space\, Brückenstraße 10\, Chemnitz\, Sachsen\, 09111\, Deutschland
CATEGORIES:Mitmachen
END:VEVENT
END:VCALENDAR