BEGIN:VCALENDAR
VERSION:2.0
PRODID:-//Chemnitz Open Space - ECPv6.15.20//NONSGML v1.0//EN
CALSCALE:GREGORIAN
METHOD:PUBLISH
X-ORIGINAL-URL:https://chemnitz-open.space
X-WR-CALDESC:Veranstaltungen für Chemnitz Open Space
REFRESH-INTERVAL;VALUE=DURATION:PT1H
X-Robots-Tag:noindex
X-PUBLISHED-TTL:PT1H
BEGIN:VTIMEZONE
TZID:Europe/Berlin
BEGIN:DAYLIGHT
TZOFFSETFROM:+0100
TZOFFSETTO:+0200
TZNAME:CEST
DTSTART:20240331T010000
END:DAYLIGHT
BEGIN:STANDARD
TZOFFSETFROM:+0200
TZOFFSETTO:+0100
TZNAME:CET
DTSTART:20241027T010000
END:STANDARD
BEGIN:DAYLIGHT
TZOFFSETFROM:+0100
TZOFFSETTO:+0200
TZNAME:CEST
DTSTART:20250330T010000
END:DAYLIGHT
BEGIN:STANDARD
TZOFFSETFROM:+0200
TZOFFSETTO:+0100
TZNAME:CET
DTSTART:20251026T010000
END:STANDARD
BEGIN:DAYLIGHT
TZOFFSETFROM:+0100
TZOFFSETTO:+0200
TZNAME:CEST
DTSTART:20260329T010000
END:DAYLIGHT
BEGIN:STANDARD
TZOFFSETFROM:+0200
TZOFFSETTO:+0100
TZNAME:CET
DTSTART:20261025T010000
END:STANDARD
END:VTIMEZONE
BEGIN:VEVENT
DTSTART;TZID=Europe/Berlin:20251010T110000
DTEND;TZID=Europe/Berlin:20251010T200000
DTSTAMP:20260420T163623
CREATED:20251004T160048Z
LAST-MODIFIED:20251008T153838Z
UID:2774-1760094000-1760126400@chemnitz-open.space
SUMMARY:Jiddisch Kurs
DESCRIPTION:Die Tage der jüdischen Kultur in Chemnitz nutzen das Kulturhauptstadtjahr 2025\, um an die positiven Erfahrungen aus dem Festjahr 2021 anzuknüpfen und erneut im Chemnitzer Stadthallenpark das Laubhüttenfest öffentlich und gemeinsam mit der jüdischen Gemeinde zu begehen. \nBei schlechten Wetterbedingungen werden vereinzelte Veranstaltungen vom Stadthallenpark in den Chemnitz Open Space verlegt. Diese sind wie folgt: \n  \nFreitag 10.10.:\n\n11:00 Uhr: Jiddisch redt sich: Jiddisch-Kurs\n14:00 Uhr: Found in Translation: Jiddisch durch Übersetzung lernen\n16:00 Uhr: Lesung: Die geheime Hütte im Wald\n\n \nBleibt auf dem aktuellsten Stand und erkundigt euch auch nach weiteren Veranstaltungen des Sukkot 2025 auf der Website der Tage der jüdischen Kultur in Chemnitz: www.tdjk.de\n 
URL:https://chemnitz-open.space/event/schlechtwetter-sukkot-2025/
LOCATION:Chemnitz Open Space\, Brückenstraße 10\, Chemnitz\, Sachsen\, 09111\, Deutschland
CATEGORIES:Ausstellung,Eröffnung,Information & Diskussion,Konzert,Lesung,Mitmachen,Vortrag,Workshop
END:VEVENT
END:VCALENDAR