BEGIN:VCALENDAR
VERSION:2.0
PRODID:-//Chemnitz Open Space - ECPv6.15.20//NONSGML v1.0//EN
CALSCALE:GREGORIAN
METHOD:PUBLISH
X-ORIGINAL-URL:https://chemnitz-open.space
X-WR-CALDESC:Veranstaltungen für Chemnitz Open Space
REFRESH-INTERVAL;VALUE=DURATION:PT1H
X-Robots-Tag:noindex
X-PUBLISHED-TTL:PT1H
BEGIN:VTIMEZONE
TZID:Europe/Berlin
BEGIN:DAYLIGHT
TZOFFSETFROM:+0100
TZOFFSETTO:+0200
TZNAME:CEST
DTSTART:20240331T010000
END:DAYLIGHT
BEGIN:STANDARD
TZOFFSETFROM:+0200
TZOFFSETTO:+0100
TZNAME:CET
DTSTART:20241027T010000
END:STANDARD
BEGIN:DAYLIGHT
TZOFFSETFROM:+0100
TZOFFSETTO:+0200
TZNAME:CEST
DTSTART:20250330T010000
END:DAYLIGHT
BEGIN:STANDARD
TZOFFSETFROM:+0200
TZOFFSETTO:+0100
TZNAME:CET
DTSTART:20251026T010000
END:STANDARD
BEGIN:DAYLIGHT
TZOFFSETFROM:+0100
TZOFFSETTO:+0200
TZNAME:CEST
DTSTART:20260329T010000
END:DAYLIGHT
BEGIN:STANDARD
TZOFFSETFROM:+0200
TZOFFSETTO:+0100
TZNAME:CET
DTSTART:20261025T010000
END:STANDARD
END:VTIMEZONE
BEGIN:VEVENT
DTSTART;TZID=Europe/Berlin:20251005T150000
DTEND;TZID=Europe/Berlin:20251005T180000
DTSTAMP:20260420T145920
CREATED:20241005T145650Z
LAST-MODIFIED:20251024T152819Z
UID:2086-1759676400-1759687200@chemnitz-open.space
SUMMARY:Kaffeeklatsch + Tischtennis | Coffee chat + Table tennis
DESCRIPTION:Wir laden Euch dazu ein\, gemeinsam Kaffee zu trinken\, Kuchen zu essen und miteinander ins Gespräch zu kommen. Bringt gern selbst einen Kuchen\, Kekse\, Eis … mit. Von uns gibt es einen Kuchen und Kaffee. Bei schönem Wetter kann der Kaffeeklatsch draußen stattfinden. \nWir freuen uns auf Euch! \nPS: Wir haben jetzt auch eine Tischtennisplatte. Also bringt gern auch Euren Tischtennisschläger mit. \nWe invite you to drink coffee together\, eat cake and talk to each other. Feel free to bring your own cake\, biscuits\, ice cream … … with you. We will provide a cake and coffee. If the weather is nice\, the coffee chat can take place outside. \nWe look forward to seeing you! \nPS: We now also have a table tennis table. So feel free to bring your table tennis bat.
URL:https://chemnitz-open.space/event/kaffeeklatsch-tischtennis-coffee-chat-table-tennis-30/
LOCATION:Chemnitz Open Space\, Brückenstraße 10\, Chemnitz\, Sachsen\, 09111\, Deutschland
CATEGORIES:Mitmachen
END:VEVENT
BEGIN:VEVENT
DTSTART;TZID=Europe/Berlin:20251005T180000
DTEND;TZID=Europe/Berlin:20251005T210000
DTSTAMP:20260420T145920
CREATED:20250921T150531Z
LAST-MODIFIED:20250921T150531Z
UID:2767-1759687200-1759698000@chemnitz-open.space
SUMMARY:Vernissage: "Zwischen Schutz und Fragilität"
DESCRIPTION:Die Ausstellungseröffnung startet 18:00 Uhr im Stadthallenpark und beginnt nach einem gemeinsamen Walk ab 18:30 Uhr im Chemnitz Open Space. \nIm Rahmen der Ausstellungseröffnung wird es ein Künstler*innen-Gespräch geben (Moderation: Daniel Laufer). Musikalische Begleitung von den „Balagan Sisters“ \nZwischen Schutz und Fragilität“ ist Teil der Reihe Dagesh-Studio on the Road und findet in Kooperation mit Dagesh – Jüdische Kunst im Kontext\, einem Programm von DialoguePerspectives e.V. mit Unterstützung durch die Stiftung Erinnerung\, Verantwortung und Zukunft (EVZ) statt. \nDie Ausstellung „Zwischen Schutz und Fragilität“ greift diese zentralen Themen und Motive von Sukkot auf und präsentiert aktuelle Arbeiten von unterschiedlichen Dagesh-Künstler*innen. In ihren Werken setzen sich die Künstler*innen aus einer zeitgenössischen\, mehrdimensionalen Perspektive mit Themen wie Migration\, Grenzziehung\, Materialität\, Erinnerung und dem prekären Gleichgewicht von Sicherheit und Freiheit auseinander. Sie stellen dabei die Frage\, was es heute bedeutet\, Schutz zu suchen – physisch\, psychologisch\, spirituell. \n 
URL:https://chemnitz-open.space/event/vernissage-zwischen-schutz-und-fragilitaet/
LOCATION:Chemnitz Open Space\, Brückenstraße 10\, Chemnitz\, Sachsen\, 09111\, Deutschland
CATEGORIES:Ausstellung,Eröffnung
END:VEVENT
END:VCALENDAR