BEGIN:VCALENDAR
VERSION:2.0
PRODID:-//Chemnitz Open Space - ECPv6.15.20//NONSGML v1.0//EN
CALSCALE:GREGORIAN
METHOD:PUBLISH
X-ORIGINAL-URL:https://chemnitz-open.space
X-WR-CALDESC:Veranstaltungen für Chemnitz Open Space
REFRESH-INTERVAL;VALUE=DURATION:PT1H
X-Robots-Tag:noindex
X-PUBLISHED-TTL:PT1H
BEGIN:VTIMEZONE
TZID:Europe/Berlin
BEGIN:DAYLIGHT
TZOFFSETFROM:+0100
TZOFFSETTO:+0200
TZNAME:CEST
DTSTART:20240331T010000
END:DAYLIGHT
BEGIN:STANDARD
TZOFFSETFROM:+0200
TZOFFSETTO:+0100
TZNAME:CET
DTSTART:20241027T010000
END:STANDARD
BEGIN:DAYLIGHT
TZOFFSETFROM:+0100
TZOFFSETTO:+0200
TZNAME:CEST
DTSTART:20250330T010000
END:DAYLIGHT
BEGIN:STANDARD
TZOFFSETFROM:+0200
TZOFFSETTO:+0100
TZNAME:CET
DTSTART:20251026T010000
END:STANDARD
BEGIN:DAYLIGHT
TZOFFSETFROM:+0100
TZOFFSETTO:+0200
TZNAME:CEST
DTSTART:20260329T010000
END:DAYLIGHT
BEGIN:STANDARD
TZOFFSETFROM:+0200
TZOFFSETTO:+0100
TZNAME:CET
DTSTART:20261025T010000
END:STANDARD
END:VTIMEZONE
BEGIN:VEVENT
DTSTART;TZID=Europe/Berlin:20250919T180000
DTEND;TZID=Europe/Berlin:20250919T200000
DTSTAMP:20260420T150911
CREATED:20250822T150439Z
LAST-MODIFIED:20250911T165632Z
UID:2698-1758304800-1758312000@chemnitz-open.space
SUMMARY:ABGESAGT! Filmvorführung & Podiumsgespräch: "The Dialogue Police"
DESCRIPTION:Die Veranstaltung ist leider abgesagt. \n  \nDer Dokumentarfilm „The Dialogue Police“ gibt einen Einblick in die Arbeit einer kleinen Spezialeinheit der schwedischen Polizei\, die bei Kundgebungen und Protesten als vermittelnde Instanz zwischen Demonstrierenden\, Gegendemonstrierenden und der Polizei fungiert. Der Film begleitet die Polizistinnen und Polizisten bei Koranverbrennungen\, Klimaprotesten und politischen Demonstrationen aus nächster Nähe. Ihre Aufgabe ist es\, Spannungen abzubauen\, Vertrauen aufzubauen und Konflikte durch Kommunikation zu entschärfen. Bewaffnet sind sie dabei nur mit Worten\, Geduld und Empathie. In einer zunehmend polarisierten Welt setzt diese Einheit alles daran\, zu vermitteln. „The Dialogue Police“ ist ein Plädoyer für die Bedeutung des Dialogs und des respektvollen Austauschs für unsere demokratische Gesellschaft. \nTrailer: https://www.youtube.com/watch?v=VYeoFNv0ty4 \nDer Film wird in gekürzter Fassung (60 Minuten) und in schwedischer Sprache mit deutschen Untertiteln gezeigt. \nIm Anschluss an die Filmvorführung findet ein Podiumsgespräch statt. \nAnmeldung via eventbrite: https://www.eventbrite.com/e/1615211604389?aff=oddtdtcreator \nDokumentarfilm „The Dialogue Police“ (c) Siren Film
URL:https://chemnitz-open.space/event/filmvorfuehrung-podiumsgespraech-the-dialogue-police/
CATEGORIES:Filmvorführung,Gespräch
END:VEVENT
END:VCALENDAR