BEGIN:VCALENDAR
VERSION:2.0
PRODID:-//Chemnitz Open Space - ECPv6.15.20//NONSGML v1.0//EN
CALSCALE:GREGORIAN
METHOD:PUBLISH
X-ORIGINAL-URL:https://chemnitz-open.space
X-WR-CALDESC:Veranstaltungen für Chemnitz Open Space
REFRESH-INTERVAL;VALUE=DURATION:PT1H
X-Robots-Tag:noindex
X-PUBLISHED-TTL:PT1H
BEGIN:VTIMEZONE
TZID:Europe/Berlin
BEGIN:DAYLIGHT
TZOFFSETFROM:+0100
TZOFFSETTO:+0200
TZNAME:CEST
DTSTART:20240331T010000
END:DAYLIGHT
BEGIN:STANDARD
TZOFFSETFROM:+0200
TZOFFSETTO:+0100
TZNAME:CET
DTSTART:20241027T010000
END:STANDARD
BEGIN:DAYLIGHT
TZOFFSETFROM:+0100
TZOFFSETTO:+0200
TZNAME:CEST
DTSTART:20250330T010000
END:DAYLIGHT
BEGIN:STANDARD
TZOFFSETFROM:+0200
TZOFFSETTO:+0100
TZNAME:CET
DTSTART:20251026T010000
END:STANDARD
BEGIN:DAYLIGHT
TZOFFSETFROM:+0100
TZOFFSETTO:+0200
TZNAME:CEST
DTSTART:20260329T010000
END:DAYLIGHT
BEGIN:STANDARD
TZOFFSETFROM:+0200
TZOFFSETTO:+0100
TZNAME:CET
DTSTART:20261025T010000
END:STANDARD
END:VTIMEZONE
BEGIN:VEVENT
DTSTART;TZID=Europe/Berlin:20250917T160000
DTEND;TZID=Europe/Berlin:20250917T180000
DTSTAMP:20260420T150906
CREATED:20250822T145733Z
LAST-MODIFIED:20250822T145733Z
UID:2696-1758124800-1758132000@chemnitz-open.space
SUMMARY:Prototyping mit Lego Serious Play
DESCRIPTION:In dem interaktiven Workshop arbeitest du an deinem Projekt oder deiner Idee mit der Lego® Serious Play Methode®. Diese kreative Methode hilft dir\, komplexe Themen spielerisch zu erfassen und innovative Lösungen zu finden. Du bekommst nicht nur Antworten auf deine Fragen\, sondern kannst dich auch mit anderen Gründern austauschen und neue Impulse sammeln. Am Ende gehst du mit konkreten Ergebnissen nach Hause\, sei es eine verfeinerte Idee oder ein Aktionsplan.\n\nReferentin:  Elizaveta Petcheniouk \n 
URL:https://chemnitz-open.space/event/prototyping-mit-lego-serious-play/
LOCATION:Chemnitz Open Space\, Brückenstraße 10\, Chemnitz\, Sachsen\, 09111\, Deutschland
CATEGORIES:Mitmachen,Workshop
END:VEVENT
END:VCALENDAR