BEGIN:VCALENDAR
VERSION:2.0
PRODID:-//Chemnitz Open Space - ECPv6.15.20//NONSGML v1.0//EN
CALSCALE:GREGORIAN
METHOD:PUBLISH
X-ORIGINAL-URL:https://chemnitz-open.space
X-WR-CALDESC:Veranstaltungen für Chemnitz Open Space
REFRESH-INTERVAL;VALUE=DURATION:PT1H
X-Robots-Tag:noindex
X-PUBLISHED-TTL:PT1H
BEGIN:VTIMEZONE
TZID:Europe/Berlin
BEGIN:DAYLIGHT
TZOFFSETFROM:+0100
TZOFFSETTO:+0200
TZNAME:CEST
DTSTART:20240331T010000
END:DAYLIGHT
BEGIN:STANDARD
TZOFFSETFROM:+0200
TZOFFSETTO:+0100
TZNAME:CET
DTSTART:20241027T010000
END:STANDARD
BEGIN:DAYLIGHT
TZOFFSETFROM:+0100
TZOFFSETTO:+0200
TZNAME:CEST
DTSTART:20250330T010000
END:DAYLIGHT
BEGIN:STANDARD
TZOFFSETFROM:+0200
TZOFFSETTO:+0100
TZNAME:CET
DTSTART:20251026T010000
END:STANDARD
BEGIN:DAYLIGHT
TZOFFSETFROM:+0100
TZOFFSETTO:+0200
TZNAME:CEST
DTSTART:20260329T010000
END:DAYLIGHT
BEGIN:STANDARD
TZOFFSETFROM:+0200
TZOFFSETTO:+0100
TZNAME:CET
DTSTART:20261025T010000
END:STANDARD
END:VTIMEZONE
BEGIN:VEVENT
DTSTART;TZID=Europe/Berlin:20250910T150000
DTEND;TZID=Europe/Berlin:20250910T200000
DTSTAMP:20260420T151719
CREATED:20250822T144634Z
LAST-MODIFIED:20250822T144634Z
UID:2691-1757516400-1757534400@chemnitz-open.space
SUMMARY:Magisches Denken
DESCRIPTION:MAGISCHES DENKEN ist das große Finale von Hear to C – einem Projekt mit den Stimmen\, die Kultur überhaupt erst möglich machen. \nEin Programm zwischen Realismus und Utopie: \nab 15.00: Eine Ausstellung über die stillen Macherinnen und heimlichen Tüftler. \n16.00: Ein Songwriting-Workshop für junge Menschen bis 30 Jahre – von der Idee bis zum eigenen Song. (Anmeldung erwünscht an heartoc@radiot.de) \n18:00 Eine Live-Radiosendung darüber\, wie jetzt alles endlich gut wird (oder auch nicht) \nDazu Snacks & Getränke 🙂 \n 
URL:https://chemnitz-open.space/event/magisches-denken/
CATEGORIES:Workshop
END:VEVENT
END:VCALENDAR