BEGIN:VCALENDAR
VERSION:2.0
PRODID:-//Chemnitz Open Space - ECPv6.15.20//NONSGML v1.0//EN
CALSCALE:GREGORIAN
METHOD:PUBLISH
X-WR-CALNAME:Chemnitz Open Space
X-ORIGINAL-URL:https://chemnitz-open.space
X-WR-CALDESC:Veranstaltungen für Chemnitz Open Space
REFRESH-INTERVAL;VALUE=DURATION:PT1H
X-Robots-Tag:noindex
X-PUBLISHED-TTL:PT1H
BEGIN:VTIMEZONE
TZID:Europe/Berlin
BEGIN:DAYLIGHT
TZOFFSETFROM:+0100
TZOFFSETTO:+0200
TZNAME:CEST
DTSTART:20240331T010000
END:DAYLIGHT
BEGIN:STANDARD
TZOFFSETFROM:+0200
TZOFFSETTO:+0100
TZNAME:CET
DTSTART:20241027T010000
END:STANDARD
BEGIN:DAYLIGHT
TZOFFSETFROM:+0100
TZOFFSETTO:+0200
TZNAME:CEST
DTSTART:20250330T010000
END:DAYLIGHT
BEGIN:STANDARD
TZOFFSETFROM:+0200
TZOFFSETTO:+0100
TZNAME:CET
DTSTART:20251026T010000
END:STANDARD
BEGIN:DAYLIGHT
TZOFFSETFROM:+0100
TZOFFSETTO:+0200
TZNAME:CEST
DTSTART:20260329T010000
END:DAYLIGHT
BEGIN:STANDARD
TZOFFSETFROM:+0200
TZOFFSETTO:+0100
TZNAME:CET
DTSTART:20261025T010000
END:STANDARD
END:VTIMEZONE
BEGIN:VEVENT
DTSTART;TZID=Europe/Berlin:20250905T200000
DTEND;TZID=Europe/Berlin:20250905T210000
DTSTAMP:20260420T150437
CREATED:20250822T152543Z
LAST-MODIFIED:20250827T150417Z
UID:2707-1757102400-1757106000@chemnitz-open.space
SUMMARY:Vernissage: Futuro - Zukunft
DESCRIPTION:Am 05.09.25 ab 20 Uhr findet bei uns die Vernissage zur Ausstellung Futuro – Zukunft statt:  \nDie Ausstellung Futuro / Zukunft lädt ein\, über das Kommende\nnachzudenken. Im Mittelpunkt steht die Idee der Zukunft als offener\nMöglichkeitsraum – geprägt von Wandelbarkeit\, Kreativität und\nkollektiver Erfahrung. \nGezeigt werden sechs skulpturale Arbeiten aus recycelten Materialien\nund zu hören sind musikalische Werke\, die gemeinsam mit Kindern und\nSchüler:innen der Musikschule Chemnitz entstanden sind. \nIm Frühjahr 2024 begaben sich die Künstler:innen Holly Miranda und\nMikel Belascoain auf eine Reise von Bilbao nach Berlin und machten Halt\nin der Musikschule Chemnitz. Was als einfache Reise begann\, verwandelte\nsich rasch in ein stilles Experiment aus Kunst\, Zuhören und\nMöglichkeiten: eine emotionale Meditation\, geprägt von Klang\, Bild\,\nKunst und dem schlichten Akt\, der Gegenwart beizuwohnen. \nIn der Ausstellung ist eine Komposition als Hymne an die Zukunft zu\nhören\, die zugleich auf die jahrtausendealten Ursprünge des\nMusizierens verweist. Eine dokumentarische Arbeit eröffnet Einblicke in\ndie Ideen und Wege\, die das Projekt inspiriert haben. „Wir widmen diese\nPhase der Stadt Chemnitz\, der Kindheit und der Kultur als Motor der\nTransformation in Europa“\, so die Künstler:innen Miranda und\nBelascoain.
URL:https://chemnitz-open.space/event/vernissage-futuro-zukunft/
LOCATION:Chemnitz Open Space\, Brückenstraße 10\, Chemnitz\, Sachsen\, 09111\, Deutschland
CATEGORIES:Ausstellung,Eröffnung
END:VEVENT
END:VCALENDAR