BEGIN:VCALENDAR
VERSION:2.0
PRODID:-//Chemnitz Open Space - ECPv6.15.20//NONSGML v1.0//EN
CALSCALE:GREGORIAN
METHOD:PUBLISH
X-ORIGINAL-URL:https://chemnitz-open.space
X-WR-CALDESC:Veranstaltungen für Chemnitz Open Space
REFRESH-INTERVAL;VALUE=DURATION:PT1H
X-Robots-Tag:noindex
X-PUBLISHED-TTL:PT1H
BEGIN:VTIMEZONE
TZID:Europe/Berlin
BEGIN:DAYLIGHT
TZOFFSETFROM:+0100
TZOFFSETTO:+0200
TZNAME:CEST
DTSTART:20240331T010000
END:DAYLIGHT
BEGIN:STANDARD
TZOFFSETFROM:+0200
TZOFFSETTO:+0100
TZNAME:CET
DTSTART:20241027T010000
END:STANDARD
BEGIN:DAYLIGHT
TZOFFSETFROM:+0100
TZOFFSETTO:+0200
TZNAME:CEST
DTSTART:20250330T010000
END:DAYLIGHT
BEGIN:STANDARD
TZOFFSETFROM:+0200
TZOFFSETTO:+0100
TZNAME:CET
DTSTART:20251026T010000
END:STANDARD
BEGIN:DAYLIGHT
TZOFFSETFROM:+0100
TZOFFSETTO:+0200
TZNAME:CEST
DTSTART:20260329T010000
END:DAYLIGHT
BEGIN:STANDARD
TZOFFSETFROM:+0200
TZOFFSETTO:+0100
TZNAME:CET
DTSTART:20261025T010000
END:STANDARD
END:VTIMEZONE
BEGIN:VEVENT
DTSTART;TZID=Europe/Berlin:20250813T170000
DTEND;TZID=Europe/Berlin:20250813T200000
DTSTAMP:20260420T133929
CREATED:20250808T163201Z
LAST-MODIFIED:20250808T163201Z
UID:2677-1755104400-1755115200@chemnitz-open.space
SUMMARY:Workshop: Bildgestalten mit Musik
DESCRIPTION:Der Workshop will eine Gelegenheit bieten\, sich spielerisch den frühen Gestaltungsimpulsen zu nähern und ohne Leistungsanspruch kreativ zu sein. Wir werden miteinander kritzeln und staunen\, was dabei entstehen kann.\n\n\n\n\n\n\n\n\nWir bitten um Anmeldung per E-Mail an post@chemnitz-open.space.
URL:https://chemnitz-open.space/event/workshop-bildgestalten-mit-musik/
LOCATION:Chemnitz Open Space\, Brückenstraße 10\, Chemnitz\, Sachsen\, 09111\, Deutschland
CATEGORIES:Mitmachen,Workshop
END:VEVENT
END:VCALENDAR