BEGIN:VCALENDAR
VERSION:2.0
PRODID:-//Chemnitz Open Space - ECPv6.15.20//NONSGML v1.0//EN
CALSCALE:GREGORIAN
METHOD:PUBLISH
X-WR-CALNAME:Chemnitz Open Space
X-ORIGINAL-URL:https://chemnitz-open.space
X-WR-CALDESC:Veranstaltungen für Chemnitz Open Space
REFRESH-INTERVAL;VALUE=DURATION:PT1H
X-Robots-Tag:noindex
X-PUBLISHED-TTL:PT1H
BEGIN:VTIMEZONE
TZID:Europe/Berlin
BEGIN:DAYLIGHT
TZOFFSETFROM:+0100
TZOFFSETTO:+0200
TZNAME:CEST
DTSTART:20240331T010000
END:DAYLIGHT
BEGIN:STANDARD
TZOFFSETFROM:+0200
TZOFFSETTO:+0100
TZNAME:CET
DTSTART:20241027T010000
END:STANDARD
BEGIN:DAYLIGHT
TZOFFSETFROM:+0100
TZOFFSETTO:+0200
TZNAME:CEST
DTSTART:20250330T010000
END:DAYLIGHT
BEGIN:STANDARD
TZOFFSETFROM:+0200
TZOFFSETTO:+0100
TZNAME:CET
DTSTART:20251026T010000
END:STANDARD
BEGIN:DAYLIGHT
TZOFFSETFROM:+0100
TZOFFSETTO:+0200
TZNAME:CEST
DTSTART:20260329T010000
END:DAYLIGHT
BEGIN:STANDARD
TZOFFSETFROM:+0200
TZOFFSETTO:+0100
TZNAME:CET
DTSTART:20261025T010000
END:STANDARD
END:VTIMEZONE
BEGIN:VEVENT
DTSTART;TZID=Europe/Berlin:20250801T180000
DTEND;TZID=Europe/Berlin:20250801T200000
DTSTAMP:20260420T121925
CREATED:20250713T131839Z
LAST-MODIFIED:20250728T165652Z
UID:2616-1754071200-1754078400@chemnitz-open.space
SUMMARY:Vernissage: Innenwelten – Außenblicke – Ver-rückte Perspektiven
DESCRIPTION:Die Ausstellung entstand aus der Idee der Patientenfürsprecher im Klinikum Dresdner Straße sowie des VIP e.V. heraus\, für die gesellschaftliche Inklusion\, die Sichtbarkeit und Akzeptanz von Menschen mit psychischen Erkrankungen einzustehen. Nach einem Jahr in den Räumen des Geriatriezentrums Dresdner Straße\, wird sie nun für einen Monat mit Begleitprogramm im öffentlichen Raum zu sehen sein. Aufgrund der verschiedenen Kontexte\, in denen die Arbeiten entstanden\, wird eine große Bandbreite kreativen Ausdrucks zu sehen sein.  \nAn diesem Abend wird Euch Musiktherapeutin U. Rupf begrüßen. Das Programm wird mit Gesangeinlagen\, u.a. des Chors des VIP e.V.s begleitet. DIe Laudatio wird von Chefarzt Dr. T. Barth gehalten. \nWir laden Euch zur Ausstellungseröffnung ein!
URL:https://chemnitz-open.space/event/vernissage-innenwelten-aussenblicke/
CATEGORIES:Ausstellung,Eröffnung
END:VEVENT
END:VCALENDAR