BEGIN:VCALENDAR
VERSION:2.0
PRODID:-//Chemnitz Open Space - ECPv6.15.20//NONSGML v1.0//EN
CALSCALE:GREGORIAN
METHOD:PUBLISH
X-WR-CALNAME:Chemnitz Open Space
X-ORIGINAL-URL:https://chemnitz-open.space
X-WR-CALDESC:Veranstaltungen für Chemnitz Open Space
REFRESH-INTERVAL;VALUE=DURATION:PT1H
X-Robots-Tag:noindex
X-PUBLISHED-TTL:PT1H
BEGIN:VTIMEZONE
TZID:Europe/Berlin
BEGIN:DAYLIGHT
TZOFFSETFROM:+0100
TZOFFSETTO:+0200
TZNAME:CEST
DTSTART:20240331T010000
END:DAYLIGHT
BEGIN:STANDARD
TZOFFSETFROM:+0200
TZOFFSETTO:+0100
TZNAME:CET
DTSTART:20241027T010000
END:STANDARD
BEGIN:DAYLIGHT
TZOFFSETFROM:+0100
TZOFFSETTO:+0200
TZNAME:CEST
DTSTART:20250330T010000
END:DAYLIGHT
BEGIN:STANDARD
TZOFFSETFROM:+0200
TZOFFSETTO:+0100
TZNAME:CET
DTSTART:20251026T010000
END:STANDARD
BEGIN:DAYLIGHT
TZOFFSETFROM:+0100
TZOFFSETTO:+0200
TZNAME:CEST
DTSTART:20260329T010000
END:DAYLIGHT
BEGIN:STANDARD
TZOFFSETFROM:+0200
TZOFFSETTO:+0100
TZNAME:CET
DTSTART:20261025T010000
END:STANDARD
END:VTIMEZONE
BEGIN:VEVENT
DTSTART;TZID=Europe/Berlin:20250719T150000
DTEND;TZID=Europe/Berlin:20250719T190000
DTSTAMP:20260420T120744
CREATED:20250711T124428Z
LAST-MODIFIED:20250711T125908Z
UID:2603-1752937200-1752951600@chemnitz-open.space
SUMMARY:Glasworkshop - Sonnenfänger
DESCRIPTION:Im Workshop gestalten die Teilnehmer*innen einen eigenen Sonnenfänger aus einem bunten Glas-Sortiment. Die Arbeit erfolgt in der klassischen Tiffany-Technik – einer künstlerischen Form der Glasverarbeitung\, bei der farbige Glasscheiben mit Kupferfolie ummantelt und anschließend mit Zinn verlötet werden.  Die Kursplätze sind begrenzt! Bitte melde dich bis zum 18.07. per Mail an post@chemnitz-open.space an. \nDie kreative Herangehensweise ist spielerisch und intuitiv: Aus einer vielfältigen Auswahl an Glasstücken entstehen individuelle Assemblagen – inspiriert unter anderem durch traditionelle Spiele wie das Tangram. Dieser offene Zugang fördert nicht nur die eigene gestalterische Freiheit\, sondern vermittelt zugleich grundlegende Techniken des Glashandwerks. \n \nDas Angebot richtet sich an Menschen ab 15 Jahren. Der Workshop findet in einer kleinen Gruppe (max. 6 Personen) statt. Es sind keine Vorkenntnisse erforderlich – alle Materialien und Werkzeuge werden gestellt. Mitzubringen ist lediglich eine FFP2-Maske pro Person und Arbeitshandschuhe. \nBetreuung: Claire Ebendinger (g.1992\, Colmar\, FR) ist bildende Künstlerin mit einem Abschluss in Malerei/Glas von der Burg Giebichenstein Kunsthochschule Halle. In ihrer künstlerischen Praxis verbindet sie klassische Glas Verarbeitungstechniken mit Themen wie Spiel\, Lernen\, Erziehung und Pädagogik. Ihr besonderer Fokus liegt auf den Techniken der Tiffany-Glaskunst und der Bleiverglasung\, die sie in einem experimentellen\, niedrigschwelligen Workshop-Format neu interpretiert. \n  \n \n \n  \n  \n  \n  \n  \n  \n  \n  \n  \n  \n  \n \n  \n  \n 
URL:https://chemnitz-open.space/event/glasworkshop/
LOCATION:Chemnitz Open Space\, Brückenstraße 10\, Chemnitz\, Sachsen\, 09111\, Deutschland
CATEGORIES:Workshop
END:VEVENT
END:VCALENDAR