BEGIN:VCALENDAR
VERSION:2.0
PRODID:-//Chemnitz Open Space - ECPv6.15.20//NONSGML v1.0//EN
CALSCALE:GREGORIAN
METHOD:PUBLISH
X-WR-CALNAME:Chemnitz Open Space
X-ORIGINAL-URL:https://chemnitz-open.space
X-WR-CALDESC:Veranstaltungen für Chemnitz Open Space
REFRESH-INTERVAL;VALUE=DURATION:PT1H
X-Robots-Tag:noindex
X-PUBLISHED-TTL:PT1H
BEGIN:VTIMEZONE
TZID:Europe/Berlin
BEGIN:DAYLIGHT
TZOFFSETFROM:+0100
TZOFFSETTO:+0200
TZNAME:CEST
DTSTART:20240331T010000
END:DAYLIGHT
BEGIN:STANDARD
TZOFFSETFROM:+0200
TZOFFSETTO:+0100
TZNAME:CET
DTSTART:20241027T010000
END:STANDARD
BEGIN:DAYLIGHT
TZOFFSETFROM:+0100
TZOFFSETTO:+0200
TZNAME:CEST
DTSTART:20250330T010000
END:DAYLIGHT
BEGIN:STANDARD
TZOFFSETFROM:+0200
TZOFFSETTO:+0100
TZNAME:CET
DTSTART:20251026T010000
END:STANDARD
BEGIN:DAYLIGHT
TZOFFSETFROM:+0100
TZOFFSETTO:+0200
TZNAME:CEST
DTSTART:20260329T010000
END:DAYLIGHT
BEGIN:STANDARD
TZOFFSETFROM:+0200
TZOFFSETTO:+0100
TZNAME:CET
DTSTART:20261025T010000
END:STANDARD
END:VTIMEZONE
BEGIN:VEVENT
DTSTART;TZID=Europe/Berlin:20250704T150000
DTEND;TZID=Europe/Berlin:20250704T190000
DTSTAMP:20260420T104018
CREATED:20250606T145907Z
LAST-MODIFIED:20250618T170006Z
UID:2557-1751641200-1751655600@chemnitz-open.space
SUMMARY:enter the space — Werkstatt
DESCRIPTION:Mit dem Projekt enter the space wollen wir junge Menschen in Chemnitz einladen\, Kulturräume mitzugestalten und eigene Ideen umzusetzen. Dabei schauen wir einerseits in die Locations rein\, die es seit kurz oder lang in Chemnitz gibt und die das kulturelle Leben der Stadt prägen und malen uns andererseits aus\, wie ein partizipativ gestalteter Raum noch aussehen könnte: ein Treffpunkt\, ein Raum für künstlerische Experimente\, eine Werkstatt\, ein Proberaum\, ein Atelier\, ein dritter Ort (weder Zuhause\, noch Arbeit\, noch Schule)\, ein unkommerzieller Raum\, indem wir kein Geld ausgeben müssen\, um uns dort aufzuhalten? Was brauchst Du? Welcher Raum fehlt Dir in Chemnitz?   \nBei der Themenwerkstatt geht es darum\, in den Austausch zu kommen über Bedarfe und Wünsche. Eingeladen seid ihr als Vertreter:innen von bestehenden kulturellen Räumen in Chemnitz\, oder als junge Menschen zwischen 13 und 29 Jahren\, die Lust haben\, eigene künstlerische Projekte umzusetzen. Die Teilnehmenden erwarten verschiedene Workshops und künstlerische Beiträge. Konkret geht es darum\, kleine Veranstaltungsideen zu entwickeln für Formate\, welches dieses Jahr noch in bestehenden Räumen umgesetzt werden sollen. Welche Veranstaltungsidee hast Du im Kopf? In welchem Raum kannst Du das Format am besten verwirklichen und was brauchst Du dafür? Ob Pop-up-Ausstellung\, Konzert\, Party\, Performance oder etwas\, das wir uns noch gar nicht vorstellen können – wir finden gemeinsam den passenden Raum und supporten Dich bei der Umsetzung. Let’s enter the space!   \nDie Teilnahme ist kostenlos und wir bitten um eine Anmeldung per Mail an zukunft@enter-kulturregion.de. \nenter the space ist ein Projekt von enter — Junge Kulturregion Chemnitz. Ergänzend zur Kulturhauptstadt Europas in Chemnitz 2025 hat die Kulturstiftung des Bundes ein Programm initiiert\, das von Spinnerei e.V. und Fabmobil e.V. umgesetzt wird. enter — Junge Kulturregion Chemnitz möchte bis 2029 partizipative Projekte von und mit jungen Menschen im Alter von 13 bis 29 Jahren umsetzen\, sowohl in Chemnitz als auch in der Kulturhauptstadtregion mit ihren 38 Kommunen. \n 
URL:https://chemnitz-open.space/event/enter-the-space-themenwerkstatt/
CATEGORIES:Mitmachen
ORGANIZER;CN="enter - Junge Kulturregion":MAILTO:zukunft@enter-kulturregion.de
END:VEVENT
END:VCALENDAR